BEGIN:VCALENDAR
VERSION:2.0
PRODID:-//H&#039;up entrepreneurs - ECPv6.15.6//NONSGML v1.0//EN
CALSCALE:GREGORIAN
METHOD:PUBLISH
X-WR-CALNAME:H&#039;up entrepreneurs
X-ORIGINAL-URL:https://h-up.fr
X-WR-CALDESC:Évènements pour H&#039;up entrepreneurs
REFRESH-INTERVAL;VALUE=DURATION:PT1H
X-Robots-Tag:noindex
X-PUBLISHED-TTL:PT1H
BEGIN:VTIMEZONE
TZID:Europe/Paris
BEGIN:DAYLIGHT
TZOFFSETFROM:+0100
TZOFFSETTO:+0200
TZNAME:CEST
DTSTART:20240331T010000
END:DAYLIGHT
BEGIN:STANDARD
TZOFFSETFROM:+0200
TZOFFSETTO:+0100
TZNAME:CET
DTSTART:20241027T010000
END:STANDARD
BEGIN:DAYLIGHT
TZOFFSETFROM:+0100
TZOFFSETTO:+0200
TZNAME:CEST
DTSTART:20250330T010000
END:DAYLIGHT
BEGIN:STANDARD
TZOFFSETFROM:+0200
TZOFFSETTO:+0100
TZNAME:CET
DTSTART:20251026T010000
END:STANDARD
BEGIN:DAYLIGHT
TZOFFSETFROM:+0100
TZOFFSETTO:+0200
TZNAME:CEST
DTSTART:20260329T010000
END:DAYLIGHT
BEGIN:STANDARD
TZOFFSETFROM:+0200
TZOFFSETTO:+0100
TZNAME:CET
DTSTART:20261025T010000
END:STANDARD
END:VTIMEZONE
BEGIN:VEVENT
DTSTART;TZID=Europe/Paris:20250114T140000
DTEND;TZID=Europe/Paris:20250114T160000
DTSTAMP:20260423T054804
CREATED:20250102T095956Z
LAST-MODIFIED:20250108T131239Z
UID:20928-1736863200-1736870400@h-up.fr
SUMMARY:Hauts-De-France : Rencontre de rentrée - Objectif 2025
DESCRIPTION:Temps de rencontre pour lancer l’année 2025\, partage des objectifs\, organisé par H’up en Linklusion pour leurs entrepreneurs\, avec galette des rois \n  \nPublic cible : Entrepreneurs H’up + LK \nContacter le référent HDF : Léa DELATTRE \nlea.delattre@h-up.fr
URL:https://h-up.fr/event/hauts-de-france-rencontre-de-rentree-objectif-2025/
LOCATION:Au Bazaar St so\, 292 rue Camille Guérin\, 59000 Lille
ORGANIZER;CN="h'up entrepreneurs":MAILTO:contact@h-up.fr
END:VEVENT
END:VCALENDAR