BEGIN:VCALENDAR
VERSION:2.0
PRODID:-//H&#039;up entrepreneurs - ECPv6.15.6//NONSGML v1.0//EN
CALSCALE:GREGORIAN
METHOD:PUBLISH
X-WR-CALNAME:H&#039;up entrepreneurs
X-ORIGINAL-URL:https://h-up.fr
X-WR-CALDESC:Évènements pour H&#039;up entrepreneurs
REFRESH-INTERVAL;VALUE=DURATION:PT1H
X-Robots-Tag:noindex
X-PUBLISHED-TTL:PT1H
BEGIN:VTIMEZONE
TZID:Europe/Paris
BEGIN:DAYLIGHT
TZOFFSETFROM:+0100
TZOFFSETTO:+0200
TZNAME:CEST
DTSTART:20240331T010000
END:DAYLIGHT
BEGIN:STANDARD
TZOFFSETFROM:+0200
TZOFFSETTO:+0100
TZNAME:CET
DTSTART:20241027T010000
END:STANDARD
BEGIN:DAYLIGHT
TZOFFSETFROM:+0100
TZOFFSETTO:+0200
TZNAME:CEST
DTSTART:20250330T010000
END:DAYLIGHT
BEGIN:STANDARD
TZOFFSETFROM:+0200
TZOFFSETTO:+0100
TZNAME:CET
DTSTART:20251026T010000
END:STANDARD
BEGIN:DAYLIGHT
TZOFFSETFROM:+0100
TZOFFSETTO:+0200
TZNAME:CEST
DTSTART:20260329T010000
END:DAYLIGHT
BEGIN:STANDARD
TZOFFSETFROM:+0200
TZOFFSETTO:+0100
TZNAME:CET
DTSTART:20261025T010000
END:STANDARD
END:VTIMEZONE
BEGIN:VEVENT
DTSTART;TZID=Europe/Paris:20250121T090000
DTEND;TZID=Europe/Paris:20250121T110000
DTSTAMP:20260423T054635
CREATED:20250113T140720Z
LAST-MODIFIED:20250113T140826Z
UID:20973-1737450000-1737457200@h-up.fr
SUMMARY:Webinaire Grand-Est :  "Pricing"
DESCRIPTION:L’association h’up entrepreneurs vous propose un atelier sur la « tarification ». Cet événement se déroulera le mardi 21 janvier de 9h à 11h. \n\n\n\nOuvert à tous\n\n\n\n\nDescriptif à venir\n\nLa session sera interactive et vos cas permettront de la nourrir.\nLien d’inscription
URL:https://h-up.fr/event/webinaire-pricing/
LOCATION:En ligne
CATEGORIES:Webinaire
ORGANIZER;CN="h'up entrepreneurs":MAILTO:contact@h-up.fr
END:VEVENT
BEGIN:VEVENT
DTSTART;TZID=Europe/Paris:20250121T090000
DTEND;TZID=Europe/Paris:20250121T123000
DTSTAMP:20260423T054635
CREATED:20241206T093437Z
LAST-MODIFIED:20241206T093725Z
UID:20765-1737450000-1737462600@h-up.fr
SUMMARY:H'UP AURA: Cohorte co-développement à Lyon
DESCRIPTION:Atelier\nEnvie d’échanger\, d’apprendre et de progresser ensemble ? Rejoignez nos sessions de co-développement ! Cette méthode collaborative vous permet\, aux côtés d’autres entrepreneurs\, de partager vos expériences\, d’analyser vos défis\, de co-construire des solutions concrètes et de sortir de l’isolement de l’entrepreneur en intégrant un groupe où vous bénéficiez du soutien de pairs. Lors de chaque session\, vous choisissez collectivement les problématiques à aborder\, pour des échanges riches et ciblés. Sessions animées par une Ségolène Guelaud\, coach certifiée.\nUn engagement sur les trois sessions est nécessaire pour garantir le succès de ce parcours. \n🔸​ Limité à 8 entrepreneurs \n🔸 ​Intervenante : Ségolène Guelaud \nInscription
URL:https://h-up.fr/event/atelier-a-lyon-en-presentiel/
LOCATION:Lyon\, France
CATEGORIES:Session échange entre pairs
ORGANIZER;CN="h'up entrepreneurs":MAILTO:contact@h-up.fr
END:VEVENT
END:VCALENDAR