BEGIN:VCALENDAR
VERSION:2.0
PRODID:-//H&#039;up entrepreneurs - ECPv6.15.6//NONSGML v1.0//EN
CALSCALE:GREGORIAN
METHOD:PUBLISH
X-ORIGINAL-URL:https://h-up.fr
X-WR-CALDESC:Évènements pour H&#039;up entrepreneurs
REFRESH-INTERVAL;VALUE=DURATION:PT1H
X-Robots-Tag:noindex
X-PUBLISHED-TTL:PT1H
BEGIN:VTIMEZONE
TZID:Europe/Paris
BEGIN:DAYLIGHT
TZOFFSETFROM:+0100
TZOFFSETTO:+0200
TZNAME:CEST
DTSTART:20240331T010000
END:DAYLIGHT
BEGIN:STANDARD
TZOFFSETFROM:+0200
TZOFFSETTO:+0100
TZNAME:CET
DTSTART:20241027T010000
END:STANDARD
BEGIN:DAYLIGHT
TZOFFSETFROM:+0100
TZOFFSETTO:+0200
TZNAME:CEST
DTSTART:20250330T010000
END:DAYLIGHT
BEGIN:STANDARD
TZOFFSETFROM:+0200
TZOFFSETTO:+0100
TZNAME:CET
DTSTART:20251026T010000
END:STANDARD
BEGIN:DAYLIGHT
TZOFFSETFROM:+0100
TZOFFSETTO:+0200
TZNAME:CEST
DTSTART:20260329T010000
END:DAYLIGHT
BEGIN:STANDARD
TZOFFSETFROM:+0200
TZOFFSETTO:+0100
TZNAME:CET
DTSTART:20261025T010000
END:STANDARD
END:VTIMEZONE
BEGIN:VEVENT
DTSTART;TZID=Europe/Paris:20250218T090000
DTEND;TZID=Europe/Paris:20250218T123000
DTSTAMP:20260423T041739
CREATED:20241206T094009Z
LAST-MODIFIED:20241206T094009Z
UID:20774-1739869200-1739881800@h-up.fr
SUMMARY:H'UP AURA: Cohorte co-développement à Lyon
DESCRIPTION:Atelier\nEnvie d’échanger\, d’apprendre et de progresser ensemble ? Rejoignez nos sessions de co-développement ! Cette méthode collaborative vous permet\, aux côtés d’autres entrepreneurs\, de partager vos expériences\, d’analyser vos défis\, de co-construire des solutions concrètes et de sortir de l’isolement de l’entrepreneur en intégrant un groupe où vous bénéficiez du soutien de pairs. Lors de chaque session\, vous choisissez collectivement les problématiques à aborder\, pour des échanges riches et ciblés. Sessions animées par une Ségolène Guelaud\, coach certifiée.\nUn engagement sur les trois sessions est nécessaire pour garantir le succès de ce parcours. \n🔸​ Limité à 8 entrepreneurs \n🔸 ​Intervenante : Ségolène Guelaud \nInscription
URL:https://h-up.fr/event/hup-aura-cohorte-co-developpement-a-lyon-2/
LOCATION:Lyon\, France
CATEGORIES:Session échange entre pairs
ORGANIZER;CN="h'up entrepreneurs":MAILTO:contact@h-up.fr
END:VEVENT
BEGIN:VEVENT
DTSTART;TZID=Europe/Paris:20250218T100000
DTEND;TZID=Europe/Paris:20250218T110000
DTSTAMP:20260423T041739
CREATED:20250220T091612Z
LAST-MODIFIED:20250220T091729Z
UID:21084-1739872800-1739876400@h-up.fr
SUMMARY:Café-métier : Conseil\, formation\, sensibilisation
DESCRIPTION:H’up Hauts-de-France organise un temps de rencontre et réseautage en visio pour les porteurs de projets/bénévoles dont l’activité est en lien avec le conseil\, la formation ou la sensibilisation. Sous réserve d’inscription \nInscrivez vous: https://forms.office.com/e/rNTAKFCXt6
URL:https://h-up.fr/event/cafe-metier-conseil-formation-sensibilisation/
LOCATION:Au Bazaar St so\, 292 rue Camille Guérin\, 59000 Lille
ORGANIZER;CN="h'up entrepreneurs":MAILTO:contact@h-up.fr
END:VEVENT
END:VCALENDAR