BEGIN:VCALENDAR
VERSION:2.0
PRODID:-//H&#039;up entrepreneurs - ECPv6.15.6//NONSGML v1.0//EN
CALSCALE:GREGORIAN
METHOD:PUBLISH
X-ORIGINAL-URL:https://h-up.fr
X-WR-CALDESC:Évènements pour H&#039;up entrepreneurs
REFRESH-INTERVAL;VALUE=DURATION:PT1H
X-Robots-Tag:noindex
X-PUBLISHED-TTL:PT1H
BEGIN:VTIMEZONE
TZID:Europe/Paris
BEGIN:DAYLIGHT
TZOFFSETFROM:+0100
TZOFFSETTO:+0200
TZNAME:CEST
DTSTART:20240331T010000
END:DAYLIGHT
BEGIN:STANDARD
TZOFFSETFROM:+0200
TZOFFSETTO:+0100
TZNAME:CET
DTSTART:20241027T010000
END:STANDARD
BEGIN:DAYLIGHT
TZOFFSETFROM:+0100
TZOFFSETTO:+0200
TZNAME:CEST
DTSTART:20250330T010000
END:DAYLIGHT
BEGIN:STANDARD
TZOFFSETFROM:+0200
TZOFFSETTO:+0100
TZNAME:CET
DTSTART:20251026T010000
END:STANDARD
BEGIN:DAYLIGHT
TZOFFSETFROM:+0100
TZOFFSETTO:+0200
TZNAME:CEST
DTSTART:20260329T010000
END:DAYLIGHT
BEGIN:STANDARD
TZOFFSETFROM:+0200
TZOFFSETTO:+0100
TZNAME:CET
DTSTART:20261025T010000
END:STANDARD
END:VTIMEZONE
BEGIN:VEVENT
DTSTART;TZID=Europe/Paris:20250226T153000
DTEND;TZID=Europe/Paris:20250226T170000
DTSTAMP:20260423T041744
CREATED:20250220T092617Z
LAST-MODIFIED:20250220T092824Z
UID:21090-1740583800-1740589200@h-up.fr
SUMMARY:[Événements de vie de réseau h’up HDF] : Café-visio des entrepreneurs HDF : La posture entrepreneuriale
DESCRIPTION:C’est un temps dédié aux entrepreneuses et entrepreneurs du réseau de h’up Hauts-de-France. Pour faire connaissance\, partager expériences et conseils\, tisser du lien.\n\nIntervenant: Jérôme Bartosik (bénévole h’up\, expert en image de soi) / La cravate solidaire\n\nNous abordons également les sujets qui vous questionnent autour de l’entrepreneuriat\, dans une ambiance toujours bienveillante. La thématique de ce café-visio de février sera la posture entrepreneuriale.\n\nLien d’inscription: https://forms.office.com/e/rNTAKFCXt6
URL:https://h-up.fr/event/evenements-de-vie-de-reseau-hup-hdf-cafe-visio-des-entrepreneurs-hdf-la-posture-entrepreneuriale/
LOCATION:En ligne
ORGANIZER;CN="h'up entrepreneurs":MAILTO:contact@h-up.fr
END:VEVENT
END:VCALENDAR