BEGIN:VCALENDAR
VERSION:2.0
PRODID:-//H&#039;up entrepreneurs - ECPv6.15.6//NONSGML v1.0//EN
CALSCALE:GREGORIAN
METHOD:PUBLISH
X-WR-CALNAME:H&#039;up entrepreneurs
X-ORIGINAL-URL:https://h-up.fr
X-WR-CALDESC:Évènements pour H&#039;up entrepreneurs
REFRESH-INTERVAL;VALUE=DURATION:PT1H
X-Robots-Tag:noindex
X-PUBLISHED-TTL:PT1H
BEGIN:VTIMEZONE
TZID:Europe/Paris
BEGIN:DAYLIGHT
TZOFFSETFROM:+0100
TZOFFSETTO:+0200
TZNAME:CEST
DTSTART:20240331T010000
END:DAYLIGHT
BEGIN:STANDARD
TZOFFSETFROM:+0200
TZOFFSETTO:+0100
TZNAME:CET
DTSTART:20241027T010000
END:STANDARD
BEGIN:DAYLIGHT
TZOFFSETFROM:+0100
TZOFFSETTO:+0200
TZNAME:CEST
DTSTART:20250330T010000
END:DAYLIGHT
BEGIN:STANDARD
TZOFFSETFROM:+0200
TZOFFSETTO:+0100
TZNAME:CET
DTSTART:20251026T010000
END:STANDARD
BEGIN:DAYLIGHT
TZOFFSETFROM:+0100
TZOFFSETTO:+0200
TZNAME:CEST
DTSTART:20260329T010000
END:DAYLIGHT
BEGIN:STANDARD
TZOFFSETFROM:+0200
TZOFFSETTO:+0100
TZNAME:CET
DTSTART:20261025T010000
END:STANDARD
END:VTIMEZONE
BEGIN:VEVENT
DTSTART;TZID=Europe/Paris:20250417T093000
DTEND;TZID=Europe/Paris:20250417T123000
DTSTAMP:20260423T012251
CREATED:20250311T145331Z
LAST-MODIFIED:20250311T145331Z
UID:21118-1744882200-1744893000@h-up.fr
SUMMARY:Atelier: Ne plus avoir peur des chiffres #2: maîtriser Excel/Google Sheets
DESCRIPTION:📅 Date : 17 avril 2025 | ⏰ 9h30-12h30\n📍 En visio + présentiel ( 2 Av. Tony Garnier\, 69007 Lyon) | Organisé par : h’up Aura\nInscriptions ouvertes jusqu’à 12h00 (midi) la veille de l’évènement.\n\nInscriptions: https://forms.office.com/e/B4jH4eTqUu\n\n💡 Les tableurs sont des outils puissants et flexibles\, qui peuvent vous aider à mieux gérer votre entreprise\, même si vous débutez. Il peuvent vous permettre de suivre vos finances\, structurer votre budget\, faire le suivi de vos actions opérationnelles et bien d’autres choses!\nCet atelier est un atelier pratique: pour y assister\, vous devez venir avec votre ordinateur ET accès à Google Sheets. Google Sheets est l’équivalent gratuit d’Excel accessible en ligne. Pour y accéder: Créez un compte google > dans google application sélectionnez google sheets!\n\n\n🔍 Ce que vous allez apprendre :\n\n✅ Les bases essentielles :\nSaisir et personnaliser des données (couleurs\, polices…)\nCréer et utiliser des listes déroulantes\nTrier et filtrer des données pour mieux analyser vos informations\nUtiliser les formules incontournables comme SOMME\, MOYENNE…\n\n✅ Fonctions utiles en gestion d’entreprise (selon les besoins des participants) :\nCréer des graphiques pour visualiser votre activité\nFaire des recherches de données avec RECHERCHEV\nConstruire des tableaux croisés dynamiques pour des analyses avancées\n\n\n🙂 Atelier animé par Nastasia Charrier\, ingénieure spécialisée en finances et consultante en pilotage et management de projet chez MIGSO-PCUBED.
URL:https://h-up.fr/event/atelier-ne-plus-avoir-peur-des-chiffres-2-maitriser-excel-google-sheets/
LOCATION:En ligne
ORGANIZER;CN="h'up entrepreneurs":MAILTO:contact@h-up.fr
END:VEVENT
END:VCALENDAR