BEGIN:VCALENDAR
VERSION:2.0
PRODID:-//H&#039;up entrepreneurs - ECPv6.15.6//NONSGML v1.0//EN
CALSCALE:GREGORIAN
METHOD:PUBLISH
X-WR-CALNAME:H&#039;up entrepreneurs
X-ORIGINAL-URL:https://h-up.fr
X-WR-CALDESC:Évènements pour H&#039;up entrepreneurs
REFRESH-INTERVAL;VALUE=DURATION:PT1H
X-Robots-Tag:noindex
X-PUBLISHED-TTL:PT1H
BEGIN:VTIMEZONE
TZID:Europe/Paris
BEGIN:DAYLIGHT
TZOFFSETFROM:+0100
TZOFFSETTO:+0200
TZNAME:CEST
DTSTART:20240331T010000
END:DAYLIGHT
BEGIN:STANDARD
TZOFFSETFROM:+0200
TZOFFSETTO:+0100
TZNAME:CET
DTSTART:20241027T010000
END:STANDARD
BEGIN:DAYLIGHT
TZOFFSETFROM:+0100
TZOFFSETTO:+0200
TZNAME:CEST
DTSTART:20250330T010000
END:DAYLIGHT
BEGIN:STANDARD
TZOFFSETFROM:+0200
TZOFFSETTO:+0100
TZNAME:CET
DTSTART:20251026T010000
END:STANDARD
BEGIN:DAYLIGHT
TZOFFSETFROM:+0100
TZOFFSETTO:+0200
TZNAME:CEST
DTSTART:20260329T010000
END:DAYLIGHT
BEGIN:STANDARD
TZOFFSETFROM:+0200
TZOFFSETTO:+0100
TZNAME:CET
DTSTART:20261025T010000
END:STANDARD
END:VTIMEZONE
BEGIN:VEVENT
DTSTART;TZID=Europe/Paris:20250521T160000
DTEND;TZID=Europe/Paris:20250521T173000
DTSTAMP:20260422T235049
CREATED:20250429T153451Z
LAST-MODIFIED:20250429T153451Z
UID:21223-1747843200-1747848600@h-up.fr
SUMMARY:Café Visio Métier : Bien être
DESCRIPTION:Le Café Visio Métier est un format d’échange entre entrepreneurs exerçant dans un même secteur. L’objectif est de favoriser les discussions entre pairs autour de leurs pratiques\, de leurs enjeux quotidiens et de leur posture entrepreneuriale.\nCette session est dédiée aux métiers du bien-être : sophrologues\, coachs\, praticiens en soins énergétiques\, etc.\nL’idée est de leur offrir un espace d’expression\, de partage d’expérience et d’intelligence collective\, dans une ambiance conviviale et bienveillante.\n\nCe webinaire est ouvert à tous les entrepreneur ayant une activité orienté sur le bien être (massage\, sophrologue\, coach ..etc)\n\ninscriptions: https://forms.office.com/e/54twqtD3ZU?origin=lprLink
URL:https://h-up.fr/event/cafe-visio-metier-bien-etre/
LOCATION:En ligne
ORGANIZER;CN="h'up entrepreneurs":MAILTO:contact@h-up.fr
END:VEVENT
END:VCALENDAR