BEGIN:VCALENDAR
VERSION:2.0
PRODID:-//H&#039;up entrepreneurs - ECPv6.15.6//NONSGML v1.0//EN
CALSCALE:GREGORIAN
METHOD:PUBLISH
X-ORIGINAL-URL:https://h-up.fr
X-WR-CALDESC:Évènements pour H&#039;up entrepreneurs
REFRESH-INTERVAL;VALUE=DURATION:PT1H
X-Robots-Tag:noindex
X-PUBLISHED-TTL:PT1H
BEGIN:VTIMEZONE
TZID:Europe/Paris
BEGIN:DAYLIGHT
TZOFFSETFROM:+0100
TZOFFSETTO:+0200
TZNAME:CEST
DTSTART:20240331T010000
END:DAYLIGHT
BEGIN:STANDARD
TZOFFSETFROM:+0200
TZOFFSETTO:+0100
TZNAME:CET
DTSTART:20241027T010000
END:STANDARD
BEGIN:DAYLIGHT
TZOFFSETFROM:+0100
TZOFFSETTO:+0200
TZNAME:CEST
DTSTART:20250330T010000
END:DAYLIGHT
BEGIN:STANDARD
TZOFFSETFROM:+0200
TZOFFSETTO:+0100
TZNAME:CET
DTSTART:20251026T010000
END:STANDARD
BEGIN:DAYLIGHT
TZOFFSETFROM:+0100
TZOFFSETTO:+0200
TZNAME:CEST
DTSTART:20260329T010000
END:DAYLIGHT
BEGIN:STANDARD
TZOFFSETFROM:+0200
TZOFFSETTO:+0100
TZNAME:CET
DTSTART:20261025T010000
END:STANDARD
END:VTIMEZONE
BEGIN:VEVENT
DTSTART;TZID=Europe/Paris:20250701T100000
DTEND;TZID=Europe/Paris:20250701T120000
DTSTAMP:20260422T204650
CREATED:20250429T153121Z
LAST-MODIFIED:20250429T153121Z
UID:21220-1751364000-1751371200@h-up.fr
SUMMARY:📑 Formation : Le droit des contrats pour entrepreneur.es
DESCRIPTION:💡 Contrats\, devis\, factures… Que faut-il vraiment formaliser ? En tant qu’entrepreneur\, vous signez et rédigez des contrats régulièrement\, mais faut-il toujours faire appel à un avocat ? Peut-on rédiger soi-même certains documents ? Une simple facture suffit-elle dans certains cas ? Cette formation vous apportera une approche pragmatique du droit des contrats pour vous permettre de gagner en autonomie tout en sécurisant vos engagements professionnels.\n\nAu programme :\n✔️ Comprendre les bases du contrat : qu’est-ce qui le rend valide et opposable ?\n✔️ Rédiger soi-même ou faire appel à un pro ? Cas pratiques et critères de décision\n✔️ Facture\, devis\, bon de commande : quand suffisent-ils ?\n✔️ Clauses essentielles à ne jamais négliger (responsabilité\, délais\, litiges…)\n\nLa formation comprendra une partie théorique et un Q&A (questions/réponses).\n\n🙂 Atelier animé par Morgane Morisson-Cardinaud\, avocate au barreau de Lyon.\n\nInscriptions: https://forms.office.com/e/ejxpJwQQr6\n\nEn présentiel + visio
URL:https://h-up.fr/event/%f0%9f%93%91-formation-le-droit-des-contrats-pour-entrepreneur-es/
ORGANIZER;CN="h'up entrepreneurs":MAILTO:contact@h-up.fr
END:VEVENT
END:VCALENDAR