BEGIN:VCALENDAR
VERSION:2.0
PRODID:-//H&#039;up entrepreneurs - ECPv6.15.6//NONSGML v1.0//EN
CALSCALE:GREGORIAN
METHOD:PUBLISH
X-WR-CALNAME:H&#039;up entrepreneurs
X-ORIGINAL-URL:https://h-up.fr
X-WR-CALDESC:Évènements pour H&#039;up entrepreneurs
REFRESH-INTERVAL;VALUE=DURATION:PT1H
X-Robots-Tag:noindex
X-PUBLISHED-TTL:PT1H
BEGIN:VTIMEZONE
TZID:Europe/Paris
BEGIN:DAYLIGHT
TZOFFSETFROM:+0100
TZOFFSETTO:+0200
TZNAME:CEST
DTSTART:20240331T010000
END:DAYLIGHT
BEGIN:STANDARD
TZOFFSETFROM:+0200
TZOFFSETTO:+0100
TZNAME:CET
DTSTART:20241027T010000
END:STANDARD
BEGIN:DAYLIGHT
TZOFFSETFROM:+0100
TZOFFSETTO:+0200
TZNAME:CEST
DTSTART:20250330T010000
END:DAYLIGHT
BEGIN:STANDARD
TZOFFSETFROM:+0200
TZOFFSETTO:+0100
TZNAME:CET
DTSTART:20251026T010000
END:STANDARD
BEGIN:DAYLIGHT
TZOFFSETFROM:+0100
TZOFFSETTO:+0200
TZNAME:CEST
DTSTART:20260329T010000
END:DAYLIGHT
BEGIN:STANDARD
TZOFFSETFROM:+0200
TZOFFSETTO:+0100
TZNAME:CET
DTSTART:20261025T010000
END:STANDARD
END:VTIMEZONE
BEGIN:VEVENT
DTSTART;TZID=Europe/Paris:20250919T120000
DTEND;TZID=Europe/Paris:20250919T130000
DTSTAMP:20260422T174817
CREATED:20241029T101245Z
LAST-MODIFIED:20241112T153351Z
UID:20297-1758283200-1758286800@h-up.fr
SUMMARY:Témoignage/Échange entre pairs - Concilier handicap et entrepreneuriat : Transformer les Défis en Opportunités Témoignage d’entrepreneurs qui ont fait de leur handicap une force et une opportunité pour innover  Echange d’expériences et conseils pratiques
DESCRIPTION:« Nouveau format » Échange entre pairs pour mettre en lumière des parcours inspirants d’entrepreneurs en situation de handicap qui ont réussi à concilier handicap et entrepreneuriat.\nÀ chaque session\, nous ferons intervenir un ou deux entrepreneurs en situation de handicap qui vont partager avec leurs parcours\, leurs expériences\, les stratégies qu’ils ont mis en place pour concilier handicap et entrepreneuriat. Le choix des intervenants se basera sur la sous thématique abordée en lien avec leurs expériences.\nCes sessions seront aussi\, une occasion de créer de la rencontre entre entrepreneurs du réseau h’up #rompre l’isolement.\n\nOuvert à tous\n\nInscription
URL:https://h-up.fr/event/temoignage-echange-entre-pairs-concilier-handicap-et-entrepreneuriat-transformer-les-defis-en-opportunites-temoignage-dentrepreneurs-qui-ont-fait-de-leur-handicap-une-force-et-une-opportu/
LOCATION:En ligne
CATEGORIES:Session échange entre pairs
ORGANIZER;CN="h'up entrepreneurs":MAILTO:contact@h-up.fr
END:VEVENT
BEGIN:VEVENT
DTSTART;TZID=Europe/Paris:20250919T120000
DTEND;TZID=Europe/Paris:20250919T130000
DTSTAMP:20260422T174817
CREATED:20250911T160138Z
LAST-MODIFIED:20250911T160138Z
UID:21400-1758283200-1758286800@h-up.fr
SUMMARY:👬 Echange entre pairs
DESCRIPTION:« Nouveau format » Échange entre pairs pour mettre en lumière des parcours inspirants d’entrepreneurs en situation de handicap qui ont réussi à concilier handicap et entrepreneuriat. \nÀ chaque session\, nous ferons intervenir un ou deux entrepreneurs en situation de handicap qui vont partager avec vous leurs parcours\, leurs expériences\, les stratégies qu’ils ont mis en place pour concilier handicap et entrepreneuriat. Le choix des intervenants se basera sur la sous thématique abordée en lien avec leurs expériences. \nCes sessions seront aussi\, une occasion de créer de la rencontre entre entrepreneurs du réseau h’up #rompre l’isolement. \nPour vous inscrire :Cliquez-ici \n 
URL:https://h-up.fr/event/%f0%9f%91%ac-echange-entre-pairs/
LOCATION:visio
END:VEVENT
END:VCALENDAR