BEGIN:VCALENDAR
VERSION:2.0
PRODID:-//H&#039;up entrepreneurs - ECPv6.15.6//NONSGML v1.0//EN
CALSCALE:GREGORIAN
METHOD:PUBLISH
X-WR-CALNAME:H&#039;up entrepreneurs
X-ORIGINAL-URL:https://h-up.fr
X-WR-CALDESC:Évènements pour H&#039;up entrepreneurs
REFRESH-INTERVAL;VALUE=DURATION:PT1H
X-Robots-Tag:noindex
X-PUBLISHED-TTL:PT1H
BEGIN:VTIMEZONE
TZID:Europe/Paris
BEGIN:DAYLIGHT
TZOFFSETFROM:+0100
TZOFFSETTO:+0200
TZNAME:CEST
DTSTART:20240331T010000
END:DAYLIGHT
BEGIN:STANDARD
TZOFFSETFROM:+0200
TZOFFSETTO:+0100
TZNAME:CET
DTSTART:20241027T010000
END:STANDARD
BEGIN:DAYLIGHT
TZOFFSETFROM:+0100
TZOFFSETTO:+0200
TZNAME:CEST
DTSTART:20250330T010000
END:DAYLIGHT
BEGIN:STANDARD
TZOFFSETFROM:+0200
TZOFFSETTO:+0100
TZNAME:CET
DTSTART:20251026T010000
END:STANDARD
BEGIN:DAYLIGHT
TZOFFSETFROM:+0100
TZOFFSETTO:+0200
TZNAME:CEST
DTSTART:20260329T010000
END:DAYLIGHT
BEGIN:STANDARD
TZOFFSETFROM:+0200
TZOFFSETTO:+0100
TZNAME:CET
DTSTART:20261025T010000
END:STANDARD
END:VTIMEZONE
BEGIN:VEVENT
DTSTART;TZID=Europe/Paris:20250922T130000
DTEND;TZID=Europe/Paris:20250922T140000
DTSTAMP:20260422T174827
CREATED:20250911T160439Z
LAST-MODIFIED:20250911T161256Z
UID:21406-1758546000-1758549600@h-up.fr
SUMMARY:🙋🏻‍♀️🙋🏻Session entraide mutuelle bénévoles
DESCRIPTION:Vous êtes bénévoles chez h’up ?\nVenez échanger avec vos pairs\, partager vos savoirs-faire\, partager vos besoins !\nLes sessions d’entraide mutuelle sont animées par l’une de nos bénévoles Charlotte Mérot.\nCes sessions d’une heure chacune\, seront l’occasion d’échanger entre bénévole\, poser vos questions\, partager vos cas\, ou vos problématiques rencontrées dans l’accompagnement des mentorés et des coachés. \nPour vous inscrire\, contactez notre responsable du pôle bénévolat : emilie.russo@h-up.fr
URL:https://h-up.fr/event/%f0%9f%99%8b%f0%9f%8f%bb%e2%99%80%ef%b8%8f%f0%9f%99%8b%f0%9f%8f%bbsession-entraide-mutuelle-benevoles/
END:VEVENT
END:VCALENDAR