BEGIN:VCALENDAR
VERSION:2.0
PRODID:-//H&#039;up entrepreneurs - ECPv6.15.6//NONSGML v1.0//EN
CALSCALE:GREGORIAN
METHOD:PUBLISH
X-ORIGINAL-URL:https://h-up.fr
X-WR-CALDESC:Évènements pour H&#039;up entrepreneurs
REFRESH-INTERVAL;VALUE=DURATION:PT1H
X-Robots-Tag:noindex
X-PUBLISHED-TTL:PT1H
BEGIN:VTIMEZONE
TZID:Europe/Paris
BEGIN:DAYLIGHT
TZOFFSETFROM:+0100
TZOFFSETTO:+0200
TZNAME:CEST
DTSTART:20240331T010000
END:DAYLIGHT
BEGIN:STANDARD
TZOFFSETFROM:+0200
TZOFFSETTO:+0100
TZNAME:CET
DTSTART:20241027T010000
END:STANDARD
BEGIN:DAYLIGHT
TZOFFSETFROM:+0100
TZOFFSETTO:+0200
TZNAME:CEST
DTSTART:20250330T010000
END:DAYLIGHT
BEGIN:STANDARD
TZOFFSETFROM:+0200
TZOFFSETTO:+0100
TZNAME:CET
DTSTART:20251026T010000
END:STANDARD
BEGIN:DAYLIGHT
TZOFFSETFROM:+0100
TZOFFSETTO:+0200
TZNAME:CEST
DTSTART:20260329T010000
END:DAYLIGHT
BEGIN:STANDARD
TZOFFSETFROM:+0200
TZOFFSETTO:+0100
TZNAME:CET
DTSTART:20261025T010000
END:STANDARD
END:VTIMEZONE
BEGIN:VEVENT
DTSTART;TZID=Europe/Paris:20250923T163000
DTEND;TZID=Europe/Paris:20250923T180000
DTSTAMP:20260422T175045
CREATED:20250911T160855Z
LAST-MODIFIED:20250911T160855Z
UID:21409-1758645000-1758650400@h-up.fr
SUMMARY:👨‍🎓 Session de sensibilisation à l'entreprenariat
DESCRIPTION:Vous souhaitez en savoir plus sur l’entrepreneuriat ? Identifier ce qu’il vous faudra faire ? Partager vos questions avec d’autres entrepreneurs ? \nCes évènements mensuels sont fait pour vous ! On y présente les idées reçues\, les grandes étapes\, des stratégies possibles\, le tout dans une ambiance convivial et bienveillante ! \nPour vous inscrire c’est ici \n 
URL:https://h-up.fr/event/%f0%9f%91%a8%f0%9f%8e%93-session-de-sensibilisation-a-lentreprenariat/
END:VEVENT
END:VCALENDAR