BEGIN:VCALENDAR
VERSION:2.0
PRODID:-//H&#039;up entrepreneurs - ECPv6.15.6//NONSGML v1.0//EN
CALSCALE:GREGORIAN
METHOD:PUBLISH
X-ORIGINAL-URL:https://h-up.fr
X-WR-CALDESC:Évènements pour H&#039;up entrepreneurs
REFRESH-INTERVAL;VALUE=DURATION:PT1H
X-Robots-Tag:noindex
X-PUBLISHED-TTL:PT1H
BEGIN:VTIMEZONE
TZID:Europe/Paris
BEGIN:DAYLIGHT
TZOFFSETFROM:+0100
TZOFFSETTO:+0200
TZNAME:CEST
DTSTART:20240331T010000
END:DAYLIGHT
BEGIN:STANDARD
TZOFFSETFROM:+0200
TZOFFSETTO:+0100
TZNAME:CET
DTSTART:20241027T010000
END:STANDARD
BEGIN:DAYLIGHT
TZOFFSETFROM:+0100
TZOFFSETTO:+0200
TZNAME:CEST
DTSTART:20250330T010000
END:DAYLIGHT
BEGIN:STANDARD
TZOFFSETFROM:+0200
TZOFFSETTO:+0100
TZNAME:CET
DTSTART:20251026T010000
END:STANDARD
BEGIN:DAYLIGHT
TZOFFSETFROM:+0100
TZOFFSETTO:+0200
TZNAME:CEST
DTSTART:20260329T010000
END:DAYLIGHT
BEGIN:STANDARD
TZOFFSETFROM:+0200
TZOFFSETTO:+0100
TZNAME:CET
DTSTART:20261025T010000
END:STANDARD
END:VTIMEZONE
BEGIN:VEVENT
DTSTART;TZID=Europe/Paris:20251014T133000
DTEND;TZID=Europe/Paris:20251014T150000
DTSTAMP:20260422T161713
CREATED:20251010T150946Z
LAST-MODIFIED:20251010T150946Z
UID:21464-1760448600-1760454000@h-up.fr
SUMMARY:☕Café-rencontre à Nantes - L'adaptabilité dans son quotidien de TIH [Grand Ouest]
DESCRIPTION:Venez rencontrer la communauté de h’up entrepreneurs Grand Ouest et de Linklusion – TIH Booster 44\, autour d’un thé ou d’un café ! \nNous parlerons d’entrepreneuriat et de vos parcours en tant que créateurs d’activité et auto-entrepreneurs. Nous aborderons la question de l’adaptabilité (sur-adaptabilité ?) dans vos quotidiens\, ainsi que de la gestion de la fatigabilité. \nCet espace d’échanges entre pairs permet le partage d’expériences et de conseils\, dans un cadre bienveillant et convivial. \n📑 Lien d’inscription : https://forms.gle/HSZjFDr6XKMYsuKk6 \n📅 Date : mardi 14 octobre 2025\, de 13h30 à 15h \n📍 Lieu : dans les locaux du GIRPEH\, 1 rue Didienne\, 44000 Nantes
URL:https://h-up.fr/event/%e2%98%95cafe-rencontre-a-nantes-ladaptabilite-dans-son-quotidien-de-tih-grand-ouest/
LOCATION:GIRPEH\, 1 rue Didienne\, 44000 Nantes\, 1 rue Didienne\, Nantes\, 44000
END:VEVENT
END:VCALENDAR