BEGIN:VCALENDAR
VERSION:2.0
PRODID:-//H&#039;up entrepreneurs - ECPv6.15.6//NONSGML v1.0//EN
CALSCALE:GREGORIAN
METHOD:PUBLISH
X-WR-CALNAME:H&#039;up entrepreneurs
X-ORIGINAL-URL:https://h-up.fr
X-WR-CALDESC:Évènements pour H&#039;up entrepreneurs
REFRESH-INTERVAL;VALUE=DURATION:PT1H
X-Robots-Tag:noindex
X-PUBLISHED-TTL:PT1H
BEGIN:VTIMEZONE
TZID:Europe/Paris
BEGIN:DAYLIGHT
TZOFFSETFROM:+0100
TZOFFSETTO:+0200
TZNAME:CEST
DTSTART:20240331T010000
END:DAYLIGHT
BEGIN:STANDARD
TZOFFSETFROM:+0200
TZOFFSETTO:+0100
TZNAME:CET
DTSTART:20241027T010000
END:STANDARD
BEGIN:DAYLIGHT
TZOFFSETFROM:+0100
TZOFFSETTO:+0200
TZNAME:CEST
DTSTART:20250330T010000
END:DAYLIGHT
BEGIN:STANDARD
TZOFFSETFROM:+0200
TZOFFSETTO:+0100
TZNAME:CET
DTSTART:20251026T010000
END:STANDARD
BEGIN:DAYLIGHT
TZOFFSETFROM:+0100
TZOFFSETTO:+0200
TZNAME:CEST
DTSTART:20260329T010000
END:DAYLIGHT
BEGIN:STANDARD
TZOFFSETFROM:+0200
TZOFFSETTO:+0100
TZNAME:CET
DTSTART:20261025T010000
END:STANDARD
END:VTIMEZONE
BEGIN:VEVENT
DTSTART;TZID=Europe/Paris:20251021T100000
DTEND;TZID=Europe/Paris:20251021T111500
DTSTAMP:20260422T161344
CREATED:20251010T151455Z
LAST-MODIFIED:20251010T151626Z
UID:21468-1761040800-1761045300@h-up.fr
SUMMARY:ℹ️ Réunion d'infos h'up [Grand Ouest]
DESCRIPTION:Pendant cette session\, en petit comité\, Pauline vous présentera les accompagnements et autres ressources que proposent l’association h’up. Pauline pourra également vous apporter un premier niveau de conseils. \nCette réunion est un espace de bienveillance\, de confidentialité et d’écoute. Munissez-vous d’un café\, un thé\, et installez-vous confortablement ! \nPauline vous enverra le lien pour la réunion en ligne la veille de la session. \nLien d’inscription : cliquez-ici \n 
URL:https://h-up.fr/event/%e2%84%b9%ef%b8%8f-reunion-dinfos-hup-grand-ouest/
LOCATION:visio
END:VEVENT
END:VCALENDAR