BEGIN:VCALENDAR
VERSION:2.0
PRODID:-//H&#039;up entrepreneurs - ECPv6.15.6//NONSGML v1.0//EN
CALSCALE:GREGORIAN
METHOD:PUBLISH
X-ORIGINAL-URL:https://h-up.fr
X-WR-CALDESC:Évènements pour H&#039;up entrepreneurs
REFRESH-INTERVAL;VALUE=DURATION:PT1H
X-Robots-Tag:noindex
X-PUBLISHED-TTL:PT1H
BEGIN:VTIMEZONE
TZID:Europe/Paris
BEGIN:DAYLIGHT
TZOFFSETFROM:+0100
TZOFFSETTO:+0200
TZNAME:CEST
DTSTART:20240331T010000
END:DAYLIGHT
BEGIN:STANDARD
TZOFFSETFROM:+0200
TZOFFSETTO:+0100
TZNAME:CET
DTSTART:20241027T010000
END:STANDARD
BEGIN:DAYLIGHT
TZOFFSETFROM:+0100
TZOFFSETTO:+0200
TZNAME:CEST
DTSTART:20250330T010000
END:DAYLIGHT
BEGIN:STANDARD
TZOFFSETFROM:+0200
TZOFFSETTO:+0100
TZNAME:CET
DTSTART:20251026T010000
END:STANDARD
BEGIN:DAYLIGHT
TZOFFSETFROM:+0100
TZOFFSETTO:+0200
TZNAME:CEST
DTSTART:20260329T010000
END:DAYLIGHT
BEGIN:STANDARD
TZOFFSETFROM:+0200
TZOFFSETTO:+0100
TZNAME:CET
DTSTART:20261025T010000
END:STANDARD
END:VTIMEZONE
BEGIN:VEVENT
DTSTART;TZID=Europe/Paris:20251023T100000
DTEND;TZID=Europe/Paris:20251023T120000
DTSTAMP:20260422T161832
CREATED:20251010T145810Z
LAST-MODIFIED:20251010T154300Z
UID:21455-1761213600-1761220800@h-up.fr
SUMMARY:📚 Atelier : Démarche commerciale pour entrepreneur·es\, tips et conseils [AURA]
DESCRIPTION:Comment aborder vos clients potentiels\, structurer votre démarche commerciale ou simplement par où commencer ?\nCet atelier vous propose de (re)découvrir les bases d’une prospection efficace et adaptée à vos spécificités. \nLa spécialité d’Olivier Plattard\, mentor chez h’up ? Aider les entrepeneur·es à aller chercher des clients ! Il partagera ses conseils\, outils et retours d’expérience et vous proposera des mises en situation concrètes pour mettre en pratique et s’entraîner\, dans la bienveillance ! \n🎯 Au programme : Le développement commercial: quand et pour qui ? \n\nObjectifs\, cadre et vision: se poser les bonnes questions avant de se lancer\nOutils concrets pour structurer sa démarche\nFondamentaux et bonnes pratiques pour commercialiser du service par téléphone et présentiel\nCas concrets et mises en situation pour s’entraîner\nQuestions/réponses\n\nLien d’inscription \nA noter: \n=> Pour cet atelier\, il est nécessaire que toustes les participant·es soient acteurices de l’atelier dans un cadre bienveillant pour oser tester\, poser vos questions ! \n=> nombre de places limitées\, votre inscription vous engage! Si vous avez un empêchement\, merci de prévenir aussi tôt que possible et au plus tard 24h avant afin de libérer la place pour d’autres participant·es. \n* * * * * \nCet atelier fait partie de notre série développement commercial et networking. Rejoins-nous le 5 février 2026 pour notre café-visio: atteindre mes cibles !\nLien d’inscription
URL:https://h-up.fr/event/%f0%9f%93%9a-atelier-demarche-commerciale-pour-entrepreneur%c2%b7es-tips-et-conseils-aura/
LOCATION:IRIIG – 2 avenue Tony Garnier – 69007 Lyon\, 2 avenue Tony Garnier\, Lyon\, 69007\, France
ORGANIZER;CN="h'up entrepreneurs":MAILTO:contact@h-up.fr
END:VEVENT
END:VCALENDAR