BEGIN:VCALENDAR
VERSION:2.0
PRODID:-//H&#039;up entrepreneurs - ECPv6.15.6//NONSGML v1.0//EN
CALSCALE:GREGORIAN
METHOD:PUBLISH
X-WR-CALNAME:H&#039;up entrepreneurs
X-ORIGINAL-URL:https://h-up.fr
X-WR-CALDESC:Évènements pour H&#039;up entrepreneurs
REFRESH-INTERVAL;VALUE=DURATION:PT1H
X-Robots-Tag:noindex
X-PUBLISHED-TTL:PT1H
BEGIN:VTIMEZONE
TZID:Europe/Paris
BEGIN:DAYLIGHT
TZOFFSETFROM:+0100
TZOFFSETTO:+0200
TZNAME:CEST
DTSTART:20240331T010000
END:DAYLIGHT
BEGIN:STANDARD
TZOFFSETFROM:+0200
TZOFFSETTO:+0100
TZNAME:CET
DTSTART:20241027T010000
END:STANDARD
BEGIN:DAYLIGHT
TZOFFSETFROM:+0100
TZOFFSETTO:+0200
TZNAME:CEST
DTSTART:20250330T010000
END:DAYLIGHT
BEGIN:STANDARD
TZOFFSETFROM:+0200
TZOFFSETTO:+0100
TZNAME:CET
DTSTART:20251026T010000
END:STANDARD
BEGIN:DAYLIGHT
TZOFFSETFROM:+0100
TZOFFSETTO:+0200
TZNAME:CEST
DTSTART:20260329T010000
END:DAYLIGHT
BEGIN:STANDARD
TZOFFSETFROM:+0200
TZOFFSETTO:+0100
TZNAME:CET
DTSTART:20261025T010000
END:STANDARD
END:VTIMEZONE
BEGIN:VEVENT
DTSTART;TZID=Europe/Paris:20251107T120000
DTEND;TZID=Europe/Paris:20251107T130000
DTSTAMP:20260422T161441
CREATED:20251028T161536Z
LAST-MODIFIED:20251028T162853Z
UID:21526-1762516800-1762520400@h-up.fr
SUMMARY:👬 Echange entre pairs
DESCRIPTION:Ce mois-ci\, nous recevons Nouhade Lièvre\, étudiant en 6ᵉ année de médecine. 👨🏽‍⚕️ \nAprès 4 ans d’errance diagnostique pour une maladie génétique\, Nouhade entame ses études de médecine à 23 ans\, convaincu que ce parcours fera de lui un bon médecin. \nMais confronté aux mêmes difficultés au fil de son cursus\, il réalise qu’il faut aller plus loin : trouver des réponses à la hauteur des enjeux du soin. \n  \nIl choisit alors de mettre son expérience de patient et de futur professionnel au service d’une médecine préventive et personnalisée. \n  \n💡 De cette réflexion naît Docticare : \n📱 Pour vous : un outil qui identifie vos dépistages et vaccinations personnalisés. \n🧑🏽‍⚕️ Pour les soignants : des recommandations en temps réel pendant la consultation. \n📅 Vendredi 7 novembre\, de 12h à 13h – en ligne \n📝 Inscription jusqu’au 6 novembre midi : https://forms.office.com/e/kXuL2knPbY?origin=lprLink \n  \n 
URL:https://h-up.fr/event/%f0%9f%91%ac-echange-entre-pairs-3/
LOCATION:En ligne
END:VEVENT
END:VCALENDAR