BEGIN:VCALENDAR
VERSION:2.0
PRODID:-//H&#039;up entrepreneurs - ECPv6.15.6//NONSGML v1.0//EN
CALSCALE:GREGORIAN
METHOD:PUBLISH
X-WR-CALNAME:H&#039;up entrepreneurs
X-ORIGINAL-URL:https://h-up.fr
X-WR-CALDESC:Évènements pour H&#039;up entrepreneurs
REFRESH-INTERVAL;VALUE=DURATION:PT1H
X-Robots-Tag:noindex
X-PUBLISHED-TTL:PT1H
BEGIN:VTIMEZONE
TZID:Europe/Paris
BEGIN:DAYLIGHT
TZOFFSETFROM:+0100
TZOFFSETTO:+0200
TZNAME:CEST
DTSTART:20240331T010000
END:DAYLIGHT
BEGIN:STANDARD
TZOFFSETFROM:+0200
TZOFFSETTO:+0100
TZNAME:CET
DTSTART:20241027T010000
END:STANDARD
BEGIN:DAYLIGHT
TZOFFSETFROM:+0100
TZOFFSETTO:+0200
TZNAME:CEST
DTSTART:20250330T010000
END:DAYLIGHT
BEGIN:STANDARD
TZOFFSETFROM:+0200
TZOFFSETTO:+0100
TZNAME:CET
DTSTART:20251026T010000
END:STANDARD
BEGIN:DAYLIGHT
TZOFFSETFROM:+0100
TZOFFSETTO:+0200
TZNAME:CEST
DTSTART:20260329T010000
END:DAYLIGHT
BEGIN:STANDARD
TZOFFSETFROM:+0200
TZOFFSETTO:+0100
TZNAME:CET
DTSTART:20261025T010000
END:STANDARD
END:VTIMEZONE
BEGIN:VEVENT
DTSTART;TZID=Europe/Paris:20251119T090000
DTEND;TZID=Europe/Paris:20251119T113000
DTSTAMP:20260422T145136
CREATED:20250911T154226Z
LAST-MODIFIED:20250911T154226Z
UID:21391-1763542800-1763551800@h-up.fr
SUMMARY:Permanence Hupgrade
DESCRIPTION:Vous souhaitez bénéficier d’une vue à 360° sur votre projet ? Prendre de la hauteur ? Avoir des retours stratégiques sur votre business plan ? Engager vos prochaines décisions stratégiques ? Cette permanence est faites pour vous !\nAssurées par Christophe RASERA\, entrepreneur\, formateur\, investisseur & bénévole pour H’up. Vous bénéficierez d’un échange en visio avec Christophe pendant 70 min.\nCes permanences ont lieu un jeudi par mois entre 9h00 et 11h30.\nN’hésitez pas à contacter votre référent d’accompagnement\, pour une inscription si vous êtes intéressés !
URL:https://h-up.fr/event/permanence-hupgrade-4/
LOCATION:visio
END:VEVENT
END:VCALENDAR