BEGIN:VCALENDAR
VERSION:2.0
PRODID:-//H&#039;up entrepreneurs - ECPv6.15.6//NONSGML v1.0//EN
CALSCALE:GREGORIAN
METHOD:PUBLISH
X-ORIGINAL-URL:https://h-up.fr
X-WR-CALDESC:Évènements pour H&#039;up entrepreneurs
REFRESH-INTERVAL;VALUE=DURATION:PT1H
X-Robots-Tag:noindex
X-PUBLISHED-TTL:PT1H
BEGIN:VTIMEZONE
TZID:Europe/Paris
BEGIN:DAYLIGHT
TZOFFSETFROM:+0100
TZOFFSETTO:+0200
TZNAME:CEST
DTSTART:20250330T010000
END:DAYLIGHT
BEGIN:STANDARD
TZOFFSETFROM:+0200
TZOFFSETTO:+0100
TZNAME:CET
DTSTART:20251026T010000
END:STANDARD
BEGIN:DAYLIGHT
TZOFFSETFROM:+0100
TZOFFSETTO:+0200
TZNAME:CEST
DTSTART:20260329T010000
END:DAYLIGHT
BEGIN:STANDARD
TZOFFSETFROM:+0200
TZOFFSETTO:+0100
TZNAME:CET
DTSTART:20261025T010000
END:STANDARD
BEGIN:DAYLIGHT
TZOFFSETFROM:+0100
TZOFFSETTO:+0200
TZNAME:CEST
DTSTART:20270328T010000
END:DAYLIGHT
BEGIN:STANDARD
TZOFFSETFROM:+0200
TZOFFSETTO:+0100
TZNAME:CET
DTSTART:20271031T010000
END:STANDARD
END:VTIMEZONE
BEGIN:VEVENT
DTSTART;TZID=Europe/Paris:20260114T090000
DTEND;TZID=Europe/Paris:20260114T110000
DTSTAMP:20260422T113834
CREATED:20251219T164416Z
LAST-MODIFIED:20251219T164416Z
UID:21627-1768381200-1768388400@h-up.fr
SUMMARY:💻 Webinaire thématique  le Lab - Profit\, cash et bons réflexes
DESCRIPTION:Avant de parler croissance\, il faut parler fondations.  \nCette conférence s’adresse aux entrepreneurs et fondateurs de startups qui souhaitent comprendre\, sans jargon financier\, le lien entre le compte de résultat et la trésorerie. \nNous verrons pourquoi le profit ne suffit pas\, comment le cash circule réellement dans l’entreprise et quels sont les réflexes essentiels à adopter dès les premières étapes pour construire un business sain et durable. \nWebinaire animé par\, Jonathan Leyva\, \nPrésident Directeur Général chez Konica Minolta Business Solutions France\, \n👉 Pour s’inscrire\, il suffit de cliquer sur ce lien : https://forms.office.com/e/UP84KNJbtm?origin=lprLink (inscription possible jusqu’au 13 janvier après midi. )
URL:https://h-up.fr/event/%f0%9f%92%bb-webinaire-thematique-le-lab-profit-cash-et-bons-reflexes/
LOCATION:En ligne
END:VEVENT
END:VCALENDAR