BEGIN:VCALENDAR
VERSION:2.0
PRODID:-//H&#039;up entrepreneurs - ECPv6.15.6//NONSGML v1.0//EN
CALSCALE:GREGORIAN
METHOD:PUBLISH
X-ORIGINAL-URL:https://h-up.fr
X-WR-CALDESC:Évènements pour H&#039;up entrepreneurs
REFRESH-INTERVAL;VALUE=DURATION:PT1H
X-Robots-Tag:noindex
X-PUBLISHED-TTL:PT1H
BEGIN:VTIMEZONE
TZID:Europe/Paris
BEGIN:DAYLIGHT
TZOFFSETFROM:+0100
TZOFFSETTO:+0200
TZNAME:CEST
DTSTART:20250330T010000
END:DAYLIGHT
BEGIN:STANDARD
TZOFFSETFROM:+0200
TZOFFSETTO:+0100
TZNAME:CET
DTSTART:20251026T010000
END:STANDARD
BEGIN:DAYLIGHT
TZOFFSETFROM:+0100
TZOFFSETTO:+0200
TZNAME:CEST
DTSTART:20260329T010000
END:DAYLIGHT
BEGIN:STANDARD
TZOFFSETFROM:+0200
TZOFFSETTO:+0100
TZNAME:CET
DTSTART:20261025T010000
END:STANDARD
BEGIN:DAYLIGHT
TZOFFSETFROM:+0100
TZOFFSETTO:+0200
TZNAME:CEST
DTSTART:20270328T010000
END:DAYLIGHT
BEGIN:STANDARD
TZOFFSETFROM:+0200
TZOFFSETTO:+0100
TZNAME:CET
DTSTART:20271031T010000
END:STANDARD
END:VTIMEZONE
BEGIN:VEVENT
DTSTART;TZID=Europe/Paris:20260121T163000
DTEND;TZID=Europe/Paris:20260121T180000
DTSTAMP:20260422T112256
CREATED:20251219T164833Z
LAST-MODIFIED:20251219T164833Z
UID:21630-1769013000-1769018400@h-up.fr
SUMMARY:👨‍🎓 Session de sensibilisation à l'entrepreneuriat
DESCRIPTION:Un temps privilégié pour découvrir les premiers pas dans l’entrepreneuriat\, avec au programme : \n* Les démarches incontournables pour se lancer 🚀 \n* Déconstruction des idées reçues et préjugés 🤔 \n* Partage d’expériences et réponses à vos premières questions 💬 \n* Panorama des ressources et accompagnements possibles 🛠️ Un rendez-vous pensé comme une porte d’entrée conviviale et accessible\, pour vous informer\, clarifier vos idées et peut-être amorcer votre projet entrepreneurial. 🌟
URL:https://h-up.fr/event/%f0%9f%91%a8%f0%9f%8e%93-session-de-sensibilisation-a-lentrepreneuriat/
END:VEVENT
END:VCALENDAR