BEGIN:VCALENDAR
VERSION:2.0
PRODID:-//H&#039;up entrepreneurs - ECPv6.15.6//NONSGML v1.0//EN
CALSCALE:GREGORIAN
METHOD:PUBLISH
X-WR-CALNAME:H&#039;up entrepreneurs
X-ORIGINAL-URL:https://h-up.fr
X-WR-CALDESC:Évènements pour H&#039;up entrepreneurs
REFRESH-INTERVAL;VALUE=DURATION:PT1H
X-Robots-Tag:noindex
X-PUBLISHED-TTL:PT1H
BEGIN:VTIMEZONE
TZID:Europe/Paris
BEGIN:DAYLIGHT
TZOFFSETFROM:+0100
TZOFFSETTO:+0200
TZNAME:CEST
DTSTART:20250330T010000
END:DAYLIGHT
BEGIN:STANDARD
TZOFFSETFROM:+0200
TZOFFSETTO:+0100
TZNAME:CET
DTSTART:20251026T010000
END:STANDARD
BEGIN:DAYLIGHT
TZOFFSETFROM:+0100
TZOFFSETTO:+0200
TZNAME:CEST
DTSTART:20260329T010000
END:DAYLIGHT
BEGIN:STANDARD
TZOFFSETFROM:+0200
TZOFFSETTO:+0100
TZNAME:CET
DTSTART:20261025T010000
END:STANDARD
BEGIN:DAYLIGHT
TZOFFSETFROM:+0100
TZOFFSETTO:+0200
TZNAME:CEST
DTSTART:20270328T010000
END:DAYLIGHT
BEGIN:STANDARD
TZOFFSETFROM:+0200
TZOFFSETTO:+0100
TZNAME:CET
DTSTART:20271031T010000
END:STANDARD
END:VTIMEZONE
BEGIN:VEVENT
DTSTART;TZID=Europe/Paris:20260317T100000
DTEND;TZID=Europe/Paris:20260317T120000
DTSTAMP:20260422T081703
CREATED:20260212T075811Z
LAST-MODIFIED:20260212T075826Z
UID:21735-1773741600-1773748800@h-up.fr
SUMMARY:🚨 Gestion des risques : penser à la fin dès le début ! [Lyon + visio]
DESCRIPTION:Se lancer dans l’entrepreneuriat\, c’est aussi accepter l’incertitude. Cet atelier vous propose d’aborder les choses sans tabou : que se passe-t-il si ça ne marche pas ?\nQuels sont les risques concrets – financiers\, juridiques\, psychologiques – auxquels il faut penser ?\nEt surtout : comment les anticiper\, les limiter et se protéger ? Car penser à la fin\, c’est souvent mieux commencer. \n🎯 Au programme : \n\nIdentifier et comprendre les risques liés à l’entrepreneuriat (financiers\, psycho-sociaux\, émotionnels\, juridiques…)\nSe poser les bonnes questions : quelles conséquences si je m’arrête ? si je me plante ? si je change d’avis ?\nLes outils de protection : quelles assurances\, statuts\, clauses\, responsabilités ?\nConnaître les différentes issues possibles d’un projet entrepreneurial et comment les anticiper\nLes outils pour prévoir (BP\, suivi de la santé de l’entreprise\, impacts personnels) et prendre les décisions au bon moment (redressement\, liquidation\, autre)\nLe cas de l’entrepreneuriat à plusieurs : et si nos visions divergent ?\nRetour d’expérience et bonnes pratiques\n\n⚠️ Événement à destination des TIH\, bénévoles bienvenus. \nPour vous inscrire\, c’est ici : lien d’inscription
URL:https://h-up.fr/event/gestion-des-risques-penser-a-la-fin-des-le-debut-lyon-visio/
LOCATION:2 Avenue Tony Garnier 69007 Lyon\, France
CATEGORIES:Atelier
END:VEVENT
END:VCALENDAR