BEGIN:VCALENDAR
VERSION:2.0
PRODID:-//H&#039;up entrepreneurs - ECPv6.15.6//NONSGML v1.0//EN
CALSCALE:GREGORIAN
METHOD:PUBLISH
X-WR-CALNAME:H&#039;up entrepreneurs
X-ORIGINAL-URL:https://h-up.fr
X-WR-CALDESC:Évènements pour H&#039;up entrepreneurs
REFRESH-INTERVAL;VALUE=DURATION:PT1H
X-Robots-Tag:noindex
X-PUBLISHED-TTL:PT1H
BEGIN:VTIMEZONE
TZID:Europe/Paris
BEGIN:DAYLIGHT
TZOFFSETFROM:+0100
TZOFFSETTO:+0200
TZNAME:CEST
DTSTART:20250330T010000
END:DAYLIGHT
BEGIN:STANDARD
TZOFFSETFROM:+0200
TZOFFSETTO:+0100
TZNAME:CET
DTSTART:20251026T010000
END:STANDARD
BEGIN:DAYLIGHT
TZOFFSETFROM:+0100
TZOFFSETTO:+0200
TZNAME:CEST
DTSTART:20260329T010000
END:DAYLIGHT
BEGIN:STANDARD
TZOFFSETFROM:+0200
TZOFFSETTO:+0100
TZNAME:CET
DTSTART:20261025T010000
END:STANDARD
BEGIN:DAYLIGHT
TZOFFSETFROM:+0100
TZOFFSETTO:+0200
TZNAME:CEST
DTSTART:20270328T010000
END:DAYLIGHT
BEGIN:STANDARD
TZOFFSETFROM:+0200
TZOFFSETTO:+0100
TZNAME:CET
DTSTART:20271031T010000
END:STANDARD
END:VTIMEZONE
BEGIN:VEVENT
DTSTART;TZID=Europe/Paris:20260327T100000
DTEND;TZID=Europe/Paris:20260327T120000
DTSTAMP:20260422T081901
CREATED:20260302T082137Z
LAST-MODIFIED:20260302T082137Z
UID:21891-1774605600-1774612800@h-up.fr
SUMMARY:💡Boost and Work : motivés ensemble !
DESCRIPTION:🚀 Boost and Work – Nouveau format en ligne ! \nEnvie de rester motivé et de concrétiser tes objectifs du mois ? Rejoins Boost and Work\, un rendez-vous collectif en ligne qui mêle coworking\, motivation et énergie de groupe. \nComment ça fonctionne : \n✨ Fixe ton objectif du mois \n✨ Participe à des sessions de travail partagé \n✨ Profite du partner work pour rester motivé en binôme \n✨ Laisse l’énergie du groupe te booster et avancer efficacement \n📅 Plusieurs sessions disponibles dans les mois à venir – tu peux t’inscrire à une ou plusieurs séances ! \n🔗 Lien d’inscription
URL:https://h-up.fr/event/%f0%9f%92%a1boost-and-work-motives-ensemble-2/
LOCATION:visio
CATEGORIES:Boost and work
END:VEVENT
END:VCALENDAR