BEGIN:VCALENDAR
VERSION:2.0
PRODID:-//H&#039;up entrepreneurs - ECPv6.15.6//NONSGML v1.0//EN
CALSCALE:GREGORIAN
METHOD:PUBLISH
X-WR-CALNAME:H&#039;up entrepreneurs
X-ORIGINAL-URL:https://h-up.fr
X-WR-CALDESC:Évènements pour H&#039;up entrepreneurs
REFRESH-INTERVAL;VALUE=DURATION:PT1H
X-Robots-Tag:noindex
X-PUBLISHED-TTL:PT1H
BEGIN:VTIMEZONE
TZID:Europe/Paris
BEGIN:DAYLIGHT
TZOFFSETFROM:+0100
TZOFFSETTO:+0200
TZNAME:CEST
DTSTART:20250330T010000
END:DAYLIGHT
BEGIN:STANDARD
TZOFFSETFROM:+0200
TZOFFSETTO:+0100
TZNAME:CET
DTSTART:20251026T010000
END:STANDARD
BEGIN:DAYLIGHT
TZOFFSETFROM:+0100
TZOFFSETTO:+0200
TZNAME:CEST
DTSTART:20260329T010000
END:DAYLIGHT
BEGIN:STANDARD
TZOFFSETFROM:+0200
TZOFFSETTO:+0100
TZNAME:CET
DTSTART:20261025T010000
END:STANDARD
BEGIN:DAYLIGHT
TZOFFSETFROM:+0100
TZOFFSETTO:+0200
TZNAME:CEST
DTSTART:20270328T010000
END:DAYLIGHT
BEGIN:STANDARD
TZOFFSETFROM:+0200
TZOFFSETTO:+0100
TZNAME:CET
DTSTART:20271031T010000
END:STANDARD
END:VTIMEZONE
BEGIN:VEVENT
DTSTART;TZID=Europe/Paris:20260403T120000
DTEND;TZID=Europe/Paris:20260403T130000
DTSTAMP:20260422T062352
CREATED:20260330T122854Z
LAST-MODIFIED:20260330T122854Z
UID:22023-1775217600-1775221200@h-up.fr
SUMMARY:👬 Échange entre pairs
DESCRIPTION:Vous êtes entrepreneur en situation de handicap et vous souhaitez participer à un échange entre pairs pour découvrir le parcours inspirant d’un autre entrepreneur\, partager vos réflexions et créer du lien au sein du réseau h’up ? Ces temps d’échanges sont l’occasion de rompre l’isolement\, s’inspirer mutuellement et échanger en toute bienveillance autour des défis et réussites de l’entrepreneuriat. \n📝 Lien d’inscription
URL:https://h-up.fr/event/%f0%9f%91%ac-echange-entre-pairs-4/
LOCATION:En ligne
CATEGORIES:Session échange entre pairs
END:VEVENT
END:VCALENDAR