BEGIN:VCALENDAR
VERSION:2.0
PRODID:-//H&#039;up entrepreneurs - ECPv6.15.6//NONSGML v1.0//EN
CALSCALE:GREGORIAN
METHOD:PUBLISH
X-ORIGINAL-URL:https://h-up.fr
X-WR-CALDESC:Évènements pour H&#039;up entrepreneurs
REFRESH-INTERVAL;VALUE=DURATION:PT1H
X-Robots-Tag:noindex
X-PUBLISHED-TTL:PT1H
BEGIN:VTIMEZONE
TZID:Europe/Paris
BEGIN:DAYLIGHT
TZOFFSETFROM:+0100
TZOFFSETTO:+0200
TZNAME:CEST
DTSTART:20230326T010000
END:DAYLIGHT
BEGIN:STANDARD
TZOFFSETFROM:+0200
TZOFFSETTO:+0100
TZNAME:CET
DTSTART:20231029T010000
END:STANDARD
BEGIN:DAYLIGHT
TZOFFSETFROM:+0100
TZOFFSETTO:+0200
TZNAME:CEST
DTSTART:20240331T010000
END:DAYLIGHT
BEGIN:STANDARD
TZOFFSETFROM:+0200
TZOFFSETTO:+0100
TZNAME:CET
DTSTART:20241027T010000
END:STANDARD
BEGIN:DAYLIGHT
TZOFFSETFROM:+0100
TZOFFSETTO:+0200
TZNAME:CEST
DTSTART:20250330T010000
END:DAYLIGHT
BEGIN:STANDARD
TZOFFSETFROM:+0200
TZOFFSETTO:+0100
TZNAME:CET
DTSTART:20251026T010000
END:STANDARD
END:VTIMEZONE
BEGIN:VEVENT
DTSTART;TZID=Europe/Paris:20240514T180000
DTEND;TZID=Europe/Paris:20240514T210000
DTSTAMP:20260425T032331
CREATED:20240213T153550Z
LAST-MODIFIED:20240506T124838Z
UID:18933-1715709600-1715720400@h-up.fr
SUMMARY:[Événements de vie de réseau h’up Auvergne-Rhône-Alpes] Atelier Etude de marché
DESCRIPTION:Venez découvrir comment réussir votre étude de marché en pensant différemment lors de cet atelier interactif et inspirant ! \nLieu : A l’IRIIG \nInscription obligatoire en cliquant ICI.
URL:https://h-up.fr/event/evenements-de-vie-de-reseau-hup-auvergne-rhone-alpes-speed-mentoring-afterwork/
LOCATION:2 Avenue Tony Garnier 69007 Lyon\, France
CATEGORIES:Evénement de réseau,Événements de vie de réseau
ORGANIZER;CN="h'up entrepreneurs":MAILTO:contact@h-up.fr
END:VEVENT
END:VCALENDAR