BEGIN:VCALENDAR
VERSION:2.0
PRODID:-//H&#039;up entrepreneurs - ECPv6.15.6//NONSGML v1.0//EN
CALSCALE:GREGORIAN
METHOD:PUBLISH
X-WR-CALNAME:H&#039;up entrepreneurs
X-ORIGINAL-URL:https://h-up.fr
X-WR-CALDESC:Évènements pour H&#039;up entrepreneurs
REFRESH-INTERVAL;VALUE=DURATION:PT1H
X-Robots-Tag:noindex
X-PUBLISHED-TTL:PT1H
BEGIN:VTIMEZONE
TZID:Europe/Paris
BEGIN:DAYLIGHT
TZOFFSETFROM:+0100
TZOFFSETTO:+0200
TZNAME:CEST
DTSTART:20240331T010000
END:DAYLIGHT
BEGIN:STANDARD
TZOFFSETFROM:+0200
TZOFFSETTO:+0100
TZNAME:CET
DTSTART:20241027T010000
END:STANDARD
BEGIN:DAYLIGHT
TZOFFSETFROM:+0100
TZOFFSETTO:+0200
TZNAME:CEST
DTSTART:20250330T010000
END:DAYLIGHT
BEGIN:STANDARD
TZOFFSETFROM:+0200
TZOFFSETTO:+0100
TZNAME:CET
DTSTART:20251026T010000
END:STANDARD
BEGIN:DAYLIGHT
TZOFFSETFROM:+0100
TZOFFSETTO:+0200
TZNAME:CEST
DTSTART:20260329T010000
END:DAYLIGHT
BEGIN:STANDARD
TZOFFSETFROM:+0200
TZOFFSETTO:+0100
TZNAME:CET
DTSTART:20261025T010000
END:STANDARD
END:VTIMEZONE
BEGIN:VEVENT
DTSTART;TZID=Europe/Paris:20250207T110000
DTEND;TZID=Europe/Paris:20250207T130000
DTSTAMP:20260423T025553
CREATED:20241127T160718Z
LAST-MODIFIED:20241205T163157Z
UID:20627-1738926000-1738933200@h-up.fr
SUMMARY:Session d'onboarding de bénévoles
DESCRIPTION:Inscription
URL:https://h-up.fr/event/session-donboarding-de-benevoles-2/
LOCATION:En ligne
CATEGORIES:Session échange entre pairs
ORGANIZER;CN="h'up entrepreneurs":MAILTO:contact@h-up.fr
END:VEVENT
BEGIN:VEVENT
DTSTART;TZID=Europe/Paris:20250207T130000
DTEND;TZID=Europe/Paris:20250207T141500
DTSTAMP:20260423T025553
CREATED:20250131T170405Z
LAST-MODIFIED:20250131T170405Z
UID:21052-1738933200-1738937700@h-up.fr
SUMMARY:[Événements de vie de réseau h'up Aura] Café Visio: Cap sur 2025! Succès et Objectifs
DESCRIPTION:L’année 2025 est lancée ! Et vous ? Les café-visio sont de retour\, au programme: networking\, partage d’expérience\, inspirations dans un cadre informel pour avancer ensemble. \nCe mois-ci : venez partager vos réussites de 2024\, vos objectifs pour 2025 et discuter de vos défis (et solutions !) pour 2025 avec d’autres entrepreneur⸱es motivé⸱es. 💡 \n\n📍 En visio\, vous recevrez un lien par email 1h avant le début de la rencontre.\nPour qui : entrepreneuses et entrepreneurs du réseau de h’up Auvergne Rhône-Alpes\n\nInscription
URL:https://h-up.fr/event/evenements-de-vie-de-reseau-hup-aura-cafe-visio-cap-sur-2025-succes-et-objectifs/
LOCATION:En ligne
CATEGORIES:Événements de vie de réseau
ORGANIZER;CN="h'up entrepreneurs":MAILTO:contact@h-up.fr
END:VEVENT
BEGIN:VEVENT
DTSTART;TZID=Europe/Paris:20250213T150000
DTEND;TZID=Europe/Paris:20250213T180000
DTSTAMP:20260423T025553
CREATED:20241202T131635Z
LAST-MODIFIED:20241202T131635Z
UID:20659-1739458800-1739469600@h-up.fr
SUMMARY:[Permanence juridique] h'up entrepreneurs & Barreau de Paris
DESCRIPTION:h’up entrepreneurs grâce à un partenariat avec le Barreau de Paris\, vous propose des permanences juridiques tous les mois. Vous bénéficiez gratuitement d’un échange téléphonique avec un.e avocat.e pendant 30 min tous les deuxièmes et derniers jeudis du mois entre 15h et 18h. \nLa problématique doit être transmise à votre référent régional/programme par mail pour vous inscrire et au plus tard le mardi de la semaine de la permanence. \nPour participer à cette permanence\, nous vous invitons à prendre contact avec le référent h’up avec qui vous avez eu l’entretien d’accueil.
URL:https://h-up.fr/event/permanence-juridique-hup-entrepreneurs-barreau-de-paris-14/
LOCATION:Appel téléphonique
CATEGORIES:Permanence juridique
ORGANIZER;CN="h'up entrepreneurs":MAILTO:contact@h-up.fr
END:VEVENT
BEGIN:VEVENT
DTSTART;TZID=Europe/Paris:20250218T090000
DTEND;TZID=Europe/Paris:20250218T123000
DTSTAMP:20260423T025553
CREATED:20241206T094009Z
LAST-MODIFIED:20241206T094009Z
UID:20774-1739869200-1739881800@h-up.fr
SUMMARY:H'UP AURA: Cohorte co-développement à Lyon
DESCRIPTION:Atelier\nEnvie d’échanger\, d’apprendre et de progresser ensemble ? Rejoignez nos sessions de co-développement ! Cette méthode collaborative vous permet\, aux côtés d’autres entrepreneurs\, de partager vos expériences\, d’analyser vos défis\, de co-construire des solutions concrètes et de sortir de l’isolement de l’entrepreneur en intégrant un groupe où vous bénéficiez du soutien de pairs. Lors de chaque session\, vous choisissez collectivement les problématiques à aborder\, pour des échanges riches et ciblés. Sessions animées par une Ségolène Guelaud\, coach certifiée.\nUn engagement sur les trois sessions est nécessaire pour garantir le succès de ce parcours. \n🔸​ Limité à 8 entrepreneurs \n🔸 ​Intervenante : Ségolène Guelaud \nInscription
URL:https://h-up.fr/event/hup-aura-cohorte-co-developpement-a-lyon-2/
LOCATION:Lyon\, France
CATEGORIES:Session échange entre pairs
ORGANIZER;CN="h'up entrepreneurs":MAILTO:contact@h-up.fr
END:VEVENT
BEGIN:VEVENT
DTSTART;TZID=Europe/Paris:20250218T100000
DTEND;TZID=Europe/Paris:20250218T110000
DTSTAMP:20260423T025553
CREATED:20250220T091612Z
LAST-MODIFIED:20250220T091729Z
UID:21084-1739872800-1739876400@h-up.fr
SUMMARY:Café-métier : Conseil\, formation\, sensibilisation
DESCRIPTION:H’up Hauts-de-France organise un temps de rencontre et réseautage en visio pour les porteurs de projets/bénévoles dont l’activité est en lien avec le conseil\, la formation ou la sensibilisation. Sous réserve d’inscription \nInscrivez vous: https://forms.office.com/e/rNTAKFCXt6
URL:https://h-up.fr/event/cafe-metier-conseil-formation-sensibilisation/
LOCATION:Au Bazaar St so\, 292 rue Camille Guérin\, 59000 Lille
ORGANIZER;CN="h'up entrepreneurs":MAILTO:contact@h-up.fr
END:VEVENT
BEGIN:VEVENT
DTSTART;TZID=Europe/Paris:20250221T110000
DTEND;TZID=Europe/Paris:20250221T120000
DTSTAMP:20260423T025553
CREATED:20250116T102706Z
LAST-MODIFIED:20250116T102706Z
UID:20984-1740135600-1740139200@h-up.fr
SUMMARY:Webinaire thématiques Grand-Est : "Comment bien utiliser les réseaux professionnels"
DESCRIPTION:  \nDescriptif à venir \n  \nAnimé par Linklusion \nCible : Ouvert à tous \nInscription
URL:https://h-up.fr/event/webinaire-thematiques-grand-est-comment-bien-utiliser-les-reseaux-professionnels/
LOCATION:En ligne
CATEGORIES:Webinaire
ORGANIZER;CN="h'up entrepreneurs":MAILTO:contact@h-up.fr
END:VEVENT
BEGIN:VEVENT
DTSTART;TZID=Europe/Paris:20250225T120000
DTEND;TZID=Europe/Paris:20250225T131500
DTSTAMP:20260423T025553
CREATED:20250131T141144Z
LAST-MODIFIED:20250131T141144Z
UID:21049-1740484800-1740489300@h-up.fr
SUMMARY:[Événements de vie de réseau h'up Bretagne] Café visio  de février
DESCRIPTION:Session dédiée au pitch. Nous aurons le temps de nous concentrer sur 3 pitchs : 5 minutes de pitch + 15 minutes de debriefing. C’est une très belle occasion pour s’entrainer\, que vous soyez porteur de projet ou déjà immatriculé.\n\nInscription
URL:https://h-up.fr/event/evenements-de-vie-de-reseau-hup-bretagne-cafe-visio-de-fevrier-2/
LOCATION:En ligne
CATEGORIES:Événements de vie de réseau
ORGANIZER;CN="h'up entrepreneurs":MAILTO:contact@h-up.fr
END:VEVENT
BEGIN:VEVENT
DTSTART;TZID=Europe/Paris:20250226T153000
DTEND;TZID=Europe/Paris:20250226T170000
DTSTAMP:20260423T025553
CREATED:20250220T092617Z
LAST-MODIFIED:20250220T092824Z
UID:21090-1740583800-1740589200@h-up.fr
SUMMARY:[Événements de vie de réseau h’up HDF] : Café-visio des entrepreneurs HDF : La posture entrepreneuriale
DESCRIPTION:C’est un temps dédié aux entrepreneuses et entrepreneurs du réseau de h’up Hauts-de-France. Pour faire connaissance\, partager expériences et conseils\, tisser du lien.\n\nIntervenant: Jérôme Bartosik (bénévole h’up\, expert en image de soi) / La cravate solidaire\n\nNous abordons également les sujets qui vous questionnent autour de l’entrepreneuriat\, dans une ambiance toujours bienveillante. La thématique de ce café-visio de février sera la posture entrepreneuriale.\n\nLien d’inscription: https://forms.office.com/e/rNTAKFCXt6
URL:https://h-up.fr/event/evenements-de-vie-de-reseau-hup-hdf-cafe-visio-des-entrepreneurs-hdf-la-posture-entrepreneuriale/
LOCATION:En ligne
ORGANIZER;CN="h'up entrepreneurs":MAILTO:contact@h-up.fr
END:VEVENT
BEGIN:VEVENT
DTSTART;TZID=Europe/Paris:20250227T100000
DTEND;TZID=Europe/Paris:20250227T123000
DTSTAMP:20260423T025553
CREATED:20250224T161958Z
LAST-MODIFIED:20250224T161958Z
UID:21102-1740650400-1740659400@h-up.fr
SUMMARY:Hupgrade - Permanence entrepreneuriale
DESCRIPTION:Des Permanences sont organisées avec Christophe Rasera\, expert de l’entrepreneuriat. L’entrepreneur est reçu pendant 1 heure sur un besoin identifié.
URL:https://h-up.fr/event/hupgrade-permanence-entrepreneuriale-3/
LOCATION:En ligne
ORGANIZER;CN="h'up entrepreneurs":MAILTO:contact@h-up.fr
END:VEVENT
BEGIN:VEVENT
DTSTART;TZID=Europe/Paris:20250227T150000
DTEND;TZID=Europe/Paris:20250227T180000
DTSTAMP:20260423T025553
CREATED:20241202T131733Z
LAST-MODIFIED:20241202T131733Z
UID:20662-1740668400-1740679200@h-up.fr
SUMMARY:[Permanence juridique] h'up entrepreneurs & Barreau de Paris
DESCRIPTION:h’up entrepreneurs grâce à un partenariat avec le Barreau de Paris\, vous propose des permanences juridiques tous les mois. Vous bénéficiez gratuitement d’un échange téléphonique avec un.e avocat.e pendant 30 min tous les deuxièmes et derniers jeudis du mois entre 15h et 18h. \nLa problématique doit être transmise à votre référent régional/programme par mail pour vous inscrire et au plus tard le mardi de la semaine de la permanence. \nPour participer à cette permanence\, nous vous invitons à prendre contact avec le référent h’up avec qui vous avez eu l’entretien d’accueil.
URL:https://h-up.fr/event/permanence-juridique-hup-entrepreneurs-barreau-de-paris-15/
LOCATION:Appel téléphonique
CATEGORIES:Permanence juridique
ORGANIZER;CN="h'up entrepreneurs":MAILTO:contact@h-up.fr
END:VEVENT
END:VCALENDAR