BEGIN:VCALENDAR
VERSION:2.0
PRODID:-//H&#039;up entrepreneurs - ECPv6.15.6//NONSGML v1.0//EN
CALSCALE:GREGORIAN
METHOD:PUBLISH
X-WR-CALNAME:H&#039;up entrepreneurs
X-ORIGINAL-URL:https://h-up.fr
X-WR-CALDESC:Évènements pour H&#039;up entrepreneurs
REFRESH-INTERVAL;VALUE=DURATION:PT1H
X-Robots-Tag:noindex
X-PUBLISHED-TTL:PT1H
BEGIN:VTIMEZONE
TZID:Europe/Paris
BEGIN:DAYLIGHT
TZOFFSETFROM:+0100
TZOFFSETTO:+0200
TZNAME:CEST
DTSTART:20240331T010000
END:DAYLIGHT
BEGIN:STANDARD
TZOFFSETFROM:+0200
TZOFFSETTO:+0100
TZNAME:CET
DTSTART:20241027T010000
END:STANDARD
BEGIN:DAYLIGHT
TZOFFSETFROM:+0100
TZOFFSETTO:+0200
TZNAME:CEST
DTSTART:20250330T010000
END:DAYLIGHT
BEGIN:STANDARD
TZOFFSETFROM:+0200
TZOFFSETTO:+0100
TZNAME:CET
DTSTART:20251026T010000
END:STANDARD
BEGIN:DAYLIGHT
TZOFFSETFROM:+0100
TZOFFSETTO:+0200
TZNAME:CEST
DTSTART:20260329T010000
END:DAYLIGHT
BEGIN:STANDARD
TZOFFSETFROM:+0200
TZOFFSETTO:+0100
TZNAME:CET
DTSTART:20261025T010000
END:STANDARD
END:VTIMEZONE
BEGIN:VEVENT
DTSTART;TZID=Europe/Paris:20250303T183000
DTEND;TZID=Europe/Paris:20250303T213000
DTSTAMP:20260423T012514
CREATED:20241230T103339Z
LAST-MODIFIED:20250217T185854Z
UID:20892-1741026600-1741037400@h-up.fr
SUMMARY:Soirée témoignage : Portraits d'Audace
DESCRIPTION: H’up entrepreneurs a le plaisir de vous convier à la 1ère édition des « Portraits d’Audace”\, co-organisée avec d’autres acteurs de l’entrepreneuriat (Evident!\, l’incubateur d’Initiatives et Cité\, Grands Ensemble\, la Ruche\, Linklusion\, Pépite et Lulu dans ma rue).\nCelle-ci se déroulera le Lundi 03 mars 2025\, de 18h30 à 21h30\, aux Halles du Bazaar St-So\, 292 rue Camille Guérin\, 59800 Lille.\n\n\nCette soirée mettra à l’honneur 6 entrepreneurs accompagnés par nos structures qui témoigneront de leur histoire et de ce qui les a poussés à entreprendre. Ce sera l’occasion de mettre en lumière l’entrepreneuriat sous toutes ses formes\, avec toute la diversité qui le compose.\nLa soirée débutera avec un temps d’accueil et se poursuivra avec les paroles des entrepreneurs. Pour celles et ceux qui souhaitent ensuite prolonger les échanges\, les Halles et leur bar restent ouverts jusque 22h.\n\n\nL’équipe de h’up entrepreneurs Hauts-de-France serait ravie de vous accueillir et de vous rencontrer lors de ce temps convivial\, ouvert au grand public. N’hésitez pas à en parler autour de vous !\n\n\n📅 Rendez-vous le 3 mars à 18h30 au Bazaar St So – Lille\n🔗 Inscription gratuite ici : https://lnkd.in/e9nE35DW\nParce que l’entrepreneuriat est une aventure ouverte à toutes et à tous\, venez vous inspirer et rencontrer des entrepreneurs passionnés ! 🚀
URL:https://h-up.fr/event/soiree-pitch-des-accompagnes/
LOCATION:Bazaar à Lille
CATEGORIES:Session échange entre pairs
ORGANIZER;CN="h'up entrepreneurs":MAILTO:contact@h-up.fr
END:VEVENT
BEGIN:VEVENT
DTSTART;TZID=Europe/Paris:20250307T110000
DTEND;TZID=Europe/Paris:20250307T130000
DTSTAMP:20260423T012514
CREATED:20241127T160820Z
LAST-MODIFIED:20241127T160820Z
UID:20630-1741345200-1741352400@h-up.fr
SUMMARY:Session d'onboarding de bénévoles
DESCRIPTION:Inscription
URL:https://h-up.fr/event/session-donboarding-de-benevoles-3/
LOCATION:En ligne
CATEGORIES:Session échange entre pairs
ORGANIZER;CN="h'up entrepreneurs":MAILTO:contact@h-up.fr
END:VEVENT
BEGIN:VEVENT
DTSTART;TZID=Europe/Paris:20250313T100000
DTEND;TZID=Europe/Paris:20250313T123000
DTSTAMP:20260423T012514
CREATED:20250224T161150Z
LAST-MODIFIED:20250224T161150Z
UID:21099-1741860000-1741869000@h-up.fr
SUMMARY:Hupgrade - Permanence entrepreneuriale
DESCRIPTION:Des Permanences sont organisées avec Christophe Rasera\, expert de l’entrepreneuriat. L’entrepreneur est reçu pendant 1 heure sur un besoin identifié.
URL:https://h-up.fr/event/hupgrade-permanence-entrepreneuriale-2/
LOCATION:En ligne
ORGANIZER;CN="h'up entrepreneurs":MAILTO:contact@h-up.fr
END:VEVENT
BEGIN:VEVENT
DTSTART;TZID=Europe/Paris:20250313T150000
DTEND;TZID=Europe/Paris:20250313T180000
DTSTAMP:20260423T012514
CREATED:20241202T132022Z
LAST-MODIFIED:20241202T132022Z
UID:20665-1741878000-1741888800@h-up.fr
SUMMARY:[Permanence juridique] h'up entrepreneurs & Barreau de Paris
DESCRIPTION:h’up entrepreneurs grâce à un partenariat avec le Barreau de Paris\, vous propose des permanences juridiques tous les mois. Vous bénéficiez gratuitement d’un échange téléphonique avec un.e avocat.e pendant 30 min tous les deuxièmes et derniers jeudis du mois entre 15h et 18h. \nLa problématique doit être transmise à votre référent régional/programme par mail pour vous inscrire et au plus tard le mardi de la semaine de la permanence. \nPour participer à cette permanence\, nous vous invitons à prendre contact avec le référent h’up avec qui vous avez eu l’entretien d’accueil.
URL:https://h-up.fr/event/permanence-juridique-hup-entrepreneurs-barreau-de-paris-16/
LOCATION:Appel téléphonique
CATEGORIES:Permanence juridique
ORGANIZER;CN="h'up entrepreneurs":MAILTO:contact@h-up.fr
END:VEVENT
BEGIN:VEVENT
DTSTART;TZID=Europe/Paris:20250314T100000
DTEND;TZID=Europe/Paris:20250314T120000
DTSTAMP:20260423T012514
CREATED:20250311T144920Z
LAST-MODIFIED:20250311T144920Z
UID:21115-1741946400-1741953600@h-up.fr
SUMMARY:Atelier: Comprendre le CR et le Bilan
DESCRIPTION:Ne plus avoir peur des chiffres #1: comprendre le CR et le Bilan.\n📅 Date : 14 mars 2025 | ⏰ 10h-12h\n📍 En visio + présentiel ( 2 Av. Tony Garnier\, 69007 Lyon) | Organisé par : h’up Aura\nInscriptions ouvertes jusqu’à 12h00 (midi) la veille de l’évènement.\n\n💡 Que vous soyez en autoentreprise ou à la tête d’une société\, comprendre un Compte de Résultat (CR) et un Bilan est indispensable pour piloter votre activité. Ces documents sont les bases de votre santé financière et vous permettent de :\n\n✔️ Prendre des décisions stratégiques éclairées\n✔️ Définir une tarification adaptée et anticiper les charges\n✔️ Construire un Business Plan solide pour lever des fonds ou convaincre des partenaires\n\n🔍 Au programme :\nDécrypter simplement un Compte de Résultat et un Bilan\nComprendre ce que ces chiffres disent de votre activité\nPoser vos questions et repartir avec une meilleure vision de votre gestion financière\n\n🙂 Atelier animé par Nastasia Charrier\, ingénieure spécialisée en finances et consultante en pilotage et management de projet chez MIGSO-PCUBED.\n\nInscriptions: https://forms.office.com/e/ejxpJwQQr6
URL:https://h-up.fr/event/atelier-comprendre-le-cr-et-le-bilan/
LOCATION:En ligne
ORGANIZER;CN="h'up entrepreneurs":MAILTO:contact@h-up.fr
END:VEVENT
BEGIN:VEVENT
DTSTART;TZID=Europe/Paris:20250318T090000
DTEND;TZID=Europe/Paris:20250318T123000
DTSTAMP:20260423T012514
CREATED:20241206T093845Z
LAST-MODIFIED:20241206T093845Z
UID:20771-1742288400-1742301000@h-up.fr
SUMMARY:H'UP AURA: Cohorte co-développement à Lyon
DESCRIPTION:Atelier\nEnvie d’échanger\, d’apprendre et de progresser ensemble ? Rejoignez nos sessions de co-développement ! Cette méthode collaborative vous permet\, aux côtés d’autres entrepreneurs\, de partager vos expériences\, d’analyser vos défis\, de co-construire des solutions concrètes et de sortir de l’isolement de l’entrepreneur en intégrant un groupe où vous bénéficiez du soutien de pairs. Lors de chaque session\, vous choisissez collectivement les problématiques à aborder\, pour des échanges riches et ciblés. Sessions animées par une Ségolène Guelaud\, coach certifiée.\nUn engagement sur les trois sessions est nécessaire pour garantir le succès de ce parcours. \n🔸​ Limité à 8 entrepreneurs \n🔸 ​Intervenante : Ségolène Guelaud \nInscription
URL:https://h-up.fr/event/hup-aura-cohorte-co-developpement-a-lyon/
LOCATION:Lyon\, France
CATEGORIES:Session échange entre pairs
ORGANIZER;CN="h'up entrepreneurs":MAILTO:contact@h-up.fr
END:VEVENT
BEGIN:VEVENT
DTSTART;TZID=Europe/Paris:20250321T120000
DTEND;TZID=Europe/Paris:20250321T130000
DTSTAMP:20260423T012514
CREATED:20241105T141827Z
LAST-MODIFIED:20241112T154004Z
UID:20388-1742558400-1742562000@h-up.fr
SUMMARY:Témoignage / Echange entre pairs - Concilier handicap et entrepreneuriat : Entreprendre avec succès malgré sa situation de handicap
DESCRIPTION:« Nouveau format » Échange entre pairs pour mettre en lumière des parcours inspirants d’entrepreneurs en situation de handicap qui ont réussi à concilier handicap et entrepreneuriat.\n\nÀ chaque session\, nous ferons intervenir un ou deux entrepreneurs en situation de handicap qui vont partager avec vous leurs parcours\, leurs expériences\, les stratégies qu’ils ont mis en place pour concilier handicap et entrepreneuriat. Le choix des intervenants se basera sur la sous thématique abordée en lien avec leurs expériences.\nCes sessions seront aussi\, une occasion de créer de la rencontre entre entrepreneurs du réseau h’up #rompre l’isolement.\nOuvert à tous\n\nInscription
URL:https://h-up.fr/event/temoignage-echange-entre-pairs-concilier-handicap-et-entrepreneuriat-entreprendre-avec-succes-malgre-sa-situation-de-handicap-2/
LOCATION:En ligne
CATEGORIES:Session échange entre pairs
ORGANIZER;CN="h'up entrepreneurs":MAILTO:contact@h-up.fr
END:VEVENT
BEGIN:VEVENT
DTSTART;TZID=Europe/Paris:20250325T140000
DTEND;TZID=Europe/Paris:20250325T153000
DTSTAMP:20260423T012514
CREATED:20250110T133743Z
LAST-MODIFIED:20250220T095150Z
UID:20970-1742911200-1742916600@h-up.fr
SUMMARY:[Événements de vie de réseau h'up Bretagne] Café visio  de Mars
DESCRIPTION:C’est un temps dédié aux entrepreneuses et entrepreneurs du réseau de h’up Bretagne. Pour faire connaissance\, partager expériences et conseils\, tisser du lien.\nNous abordons également les sujets qui vous questionnent autour de l’entrepreneuriat\, dans une ambiance toujours bienveillante.
URL:https://h-up.fr/event/evenements-de-vie-de-reseau-hup-bretagne-cafe-visio-de-mars/
LOCATION:En ligne
CATEGORIES:Événements de vie de réseau
ORGANIZER;CN="h'up entrepreneurs":MAILTO:contact@h-up.fr
END:VEVENT
BEGIN:VEVENT
DTSTART;TZID=Europe/Paris:20250327T100000
DTEND;TZID=Europe/Paris:20250327T123000
DTSTAMP:20260423T012514
CREATED:20250224T160715Z
LAST-MODIFIED:20250224T160757Z
UID:21095-1743069600-1743078600@h-up.fr
SUMMARY:Hupgrade - Permanence entrepreneuriale
DESCRIPTION:Des Permanences sont organisées avec Christophe Rasera\, expert de l’entrepreneuriat. L’entrepreneur est reçu pendant 1 heure sur un besoin identifié.
URL:https://h-up.fr/event/hupgrade-permanence-entrepreneuriale/
LOCATION:En ligne
ORGANIZER;CN="h'up entrepreneurs":MAILTO:contact@h-up.fr
END:VEVENT
BEGIN:VEVENT
DTSTART;TZID=Europe/Paris:20250327T150000
DTEND;TZID=Europe/Paris:20250327T180000
DTSTAMP:20260423T012514
CREATED:20241202T132317Z
LAST-MODIFIED:20241202T132317Z
UID:20668-1743087600-1743098400@h-up.fr
SUMMARY:[Permanence juridique] h'up entrepreneurs & Barreau de Paris
DESCRIPTION:h’up entrepreneurs grâce à un partenariat avec le Barreau de Paris\, vous propose des permanences juridiques tous les mois. Vous bénéficiez gratuitement d’un échange téléphonique avec un.e avocat.e pendant 30 min tous les deuxièmes et derniers jeudis du mois entre 15h et 18h. \nLa problématique doit être transmise à votre référent régional/programme par mail pour vous inscrire et au plus tard le mardi de la semaine de la permanence. \nPour participer à cette permanence\, nous vous invitons à prendre contact avec le référent h’up avec qui vous avez eu l’entretien d’accueil.
URL:https://h-up.fr/event/permanence-juridique-hup-entrepreneurs-barreau-de-paris-17/
LOCATION:Appel téléphonique
CATEGORIES:Permanence juridique
ORGANIZER;CN="h'up entrepreneurs":MAILTO:contact@h-up.fr
END:VEVENT
BEGIN:VEVENT
DTSTART;TZID=Europe/Paris:20250328T130000
DTEND;TZID=Europe/Paris:20250328T141500
DTSTAMP:20260423T012514
CREATED:20250131T171106Z
LAST-MODIFIED:20250204T161350Z
UID:21055-1743166800-1743171300@h-up.fr
SUMMARY:[Événements de vie de réseau h'up Aura] Café Visio: fatigabilité\, rythme irrégulier\, temps partiel... et entrepreneuriat
DESCRIPTION:Comment concilier entrepreneuriat et contraintes de santé? \n👉 Entreprendre est une aventure passionnante\, mais lorsqu’on doit jongler avec une énergie fluctuante\, un rythme irrégulier\, des rendez-vous médicaux ou un temps partiel\, cela peut ajouter des défis supplémentaires. Ce café-visio est un espace d’échange bienveillant et participatif\, sans pression\, où chacun pourra partager ses expériences\, ses astuces et ses questionnements. Nous explorerons ensemble l’impact du handicap et des contraintes de santé sur l’organisation du travail\, la gestion du temps et l’énergie au quotidien.\n⚠️ Il ne s’agit ni d’un témoignage individuel\, ni d’un atelier\, mais bien d’un moment d’échange libre et interactif entre entrepreneurs confrontés à des défis similaires. \n\n\nPour qui : entrepreneuses\, entrepreneurs et bénévoles du réseau de h’up Auvergne Rhône-Alpes\n\nInscription 
URL:https://h-up.fr/event/evenements-de-vie-de-reseau-hup-aura-cafe-visio-fatigabilite-rythme-irregulier-temps-partiel-et-entrepreneuriat/
LOCATION:En ligne
CATEGORIES:Événements de vie de réseau
ORGANIZER;CN="h'up entrepreneurs":MAILTO:contact@h-up.fr
END:VEVENT
BEGIN:VEVENT
DTSTART;TZID=Europe/Paris:20250328T150000
DTEND;TZID=Europe/Paris:20250328T163000
DTSTAMP:20260423T012514
CREATED:20250311T151805Z
LAST-MODIFIED:20250311T151805Z
UID:21131-1743174000-1743179400@h-up.fr
SUMMARY:Permanences discours commercial
DESCRIPTION:Permanences sont assurées par Sylvain Hatik\, coach certifié en prise de parole. L’entrepreneur bénéficie d’un échange en visio avec Sylvain pendant 40 min. Tous les derniers vendredis du mois entre 14h et 16h40. La problématique doit être transmise par le référent régional/programme par mail pour inscrire son entrepreneur à Virginie au plus tard la veille de la permanence. \n  \n 
URL:https://h-up.fr/event/permanences-discours-commercial/
LOCATION:En ligne
ORGANIZER;CN="h'up entrepreneurs":MAILTO:contact@h-up.fr
END:VEVENT
END:VCALENDAR