BEGIN:VCALENDAR
VERSION:2.0
PRODID:-//H&#039;up entrepreneurs - ECPv6.15.6//NONSGML v1.0//EN
CALSCALE:GREGORIAN
METHOD:PUBLISH
X-ORIGINAL-URL:https://h-up.fr
X-WR-CALDESC:Évènements pour H&#039;up entrepreneurs
REFRESH-INTERVAL;VALUE=DURATION:PT1H
X-Robots-Tag:noindex
X-PUBLISHED-TTL:PT1H
BEGIN:VTIMEZONE
TZID:Europe/Paris
BEGIN:DAYLIGHT
TZOFFSETFROM:+0100
TZOFFSETTO:+0200
TZNAME:CEST
DTSTART:20240331T010000
END:DAYLIGHT
BEGIN:STANDARD
TZOFFSETFROM:+0200
TZOFFSETTO:+0100
TZNAME:CET
DTSTART:20241027T010000
END:STANDARD
BEGIN:DAYLIGHT
TZOFFSETFROM:+0100
TZOFFSETTO:+0200
TZNAME:CEST
DTSTART:20250330T010000
END:DAYLIGHT
BEGIN:STANDARD
TZOFFSETFROM:+0200
TZOFFSETTO:+0100
TZNAME:CET
DTSTART:20251026T010000
END:STANDARD
BEGIN:DAYLIGHT
TZOFFSETFROM:+0100
TZOFFSETTO:+0200
TZNAME:CEST
DTSTART:20260329T010000
END:DAYLIGHT
BEGIN:STANDARD
TZOFFSETFROM:+0200
TZOFFSETTO:+0100
TZNAME:CET
DTSTART:20261025T010000
END:STANDARD
END:VTIMEZONE
BEGIN:VEVENT
DTSTART;TZID=Europe/Paris:20250404T110000
DTEND;TZID=Europe/Paris:20250404T130000
DTSTAMP:20260422T235413
CREATED:20241127T160929Z
LAST-MODIFIED:20241127T160929Z
UID:20633-1743764400-1743771600@h-up.fr
SUMMARY:Session d'onboarding de bénévoles
DESCRIPTION:Inscription
URL:https://h-up.fr/event/session-donboarding-de-benevoles-4/
LOCATION:En ligne
CATEGORIES:Session échange entre pairs
ORGANIZER;CN="h'up entrepreneurs":MAILTO:contact@h-up.fr
END:VEVENT
BEGIN:VEVENT
DTSTART;TZID=Europe/Paris:20250410T150000
DTEND;TZID=Europe/Paris:20250410T180000
DTSTAMP:20260422T235413
CREATED:20241202T132532Z
LAST-MODIFIED:20241202T132532Z
UID:20671-1744297200-1744308000@h-up.fr
SUMMARY:[Permanence juridique] h'up entrepreneurs & Barreau de Paris
DESCRIPTION:h’up entrepreneurs grâce à un partenariat avec le Barreau de Paris\, vous propose des permanences juridiques tous les mois. Vous bénéficiez gratuitement d’un échange téléphonique avec un.e avocat.e pendant 30 min tous les deuxièmes et derniers jeudis du mois entre 15h et 18h. \nLa problématique doit être transmise à votre référent régional/programme par mail pour vous inscrire et au plus tard le mardi de la semaine de la permanence. \nPour participer à cette permanence\, nous vous invitons à prendre contact avec le référent h’up avec qui vous avez eu l’entretien d’accueil.
URL:https://h-up.fr/event/permanence-juridique-hup-entrepreneurs-barreau-de-paris-18/
LOCATION:Appel téléphonique
CATEGORIES:Permanence juridique
ORGANIZER;CN="h'up entrepreneurs":MAILTO:contact@h-up.fr
END:VEVENT
BEGIN:VEVENT
DTSTART;TZID=Europe/Paris:20250411T120000
DTEND;TZID=Europe/Paris:20250411T130000
DTSTAMP:20260422T235413
CREATED:20241105T142108Z
LAST-MODIFIED:20241112T144131Z
UID:20391-1744372800-1744376400@h-up.fr
SUMMARY:Témoignage/Echange entre pairs en visio - Concilier handicap et entrepreneuriat : Démarrer son entreprise avec succès\, retour d’expérience de pairs
DESCRIPTION:« Nouveau format » Échange entre pairs pour mettre en lumière des parcours inspirants d’entrepreneurs en situation de handicap qui ont réussi à concilier handicap et entrepreneuriat.\n\nÀ chaque session\, nous ferons intervenir un ou deux entrepreneurs en situation de handicap qui vont partager avec vous leurs parcours\, leurs expériences\, les stratégies qu’ils ont mis en place pour concilier handicap et entrepreneuriat. Le choix des intervenants se basera sur la sous thématique abordée en lien avec leurs expériences.\nCes sessions seront aussi\, une occasion de créer de la rencontre entre entrepreneurs du réseau h’up #rompre l’isolement.\nOuvert à tous\n\nInscription
URL:https://h-up.fr/event/temoignage-echange-entre-pairs-en-visio-concilier-handicap-et-entrepreneuriat-demarrer-son-entreprise-avec-succes-retour-dexperience-de-pairs/
LOCATION:En ligne
CATEGORIES:Session échange entre pairs
ORGANIZER;CN="h'up entrepreneurs":MAILTO:contact@h-up.fr
END:VEVENT
BEGIN:VEVENT
DTSTART;TZID=Europe/Paris:20250417T093000
DTEND;TZID=Europe/Paris:20250417T123000
DTSTAMP:20260422T235413
CREATED:20250311T145331Z
LAST-MODIFIED:20250311T145331Z
UID:21118-1744882200-1744893000@h-up.fr
SUMMARY:Atelier: Ne plus avoir peur des chiffres #2: maîtriser Excel/Google Sheets
DESCRIPTION:📅 Date : 17 avril 2025 | ⏰ 9h30-12h30\n📍 En visio + présentiel ( 2 Av. Tony Garnier\, 69007 Lyon) | Organisé par : h’up Aura\nInscriptions ouvertes jusqu’à 12h00 (midi) la veille de l’évènement.\n\nInscriptions: https://forms.office.com/e/B4jH4eTqUu\n\n💡 Les tableurs sont des outils puissants et flexibles\, qui peuvent vous aider à mieux gérer votre entreprise\, même si vous débutez. Il peuvent vous permettre de suivre vos finances\, structurer votre budget\, faire le suivi de vos actions opérationnelles et bien d’autres choses!\nCet atelier est un atelier pratique: pour y assister\, vous devez venir avec votre ordinateur ET accès à Google Sheets. Google Sheets est l’équivalent gratuit d’Excel accessible en ligne. Pour y accéder: Créez un compte google > dans google application sélectionnez google sheets!\n\n\n🔍 Ce que vous allez apprendre :\n\n✅ Les bases essentielles :\nSaisir et personnaliser des données (couleurs\, polices…)\nCréer et utiliser des listes déroulantes\nTrier et filtrer des données pour mieux analyser vos informations\nUtiliser les formules incontournables comme SOMME\, MOYENNE…\n\n✅ Fonctions utiles en gestion d’entreprise (selon les besoins des participants) :\nCréer des graphiques pour visualiser votre activité\nFaire des recherches de données avec RECHERCHEV\nConstruire des tableaux croisés dynamiques pour des analyses avancées\n\n\n🙂 Atelier animé par Nastasia Charrier\, ingénieure spécialisée en finances et consultante en pilotage et management de projet chez MIGSO-PCUBED.
URL:https://h-up.fr/event/atelier-ne-plus-avoir-peur-des-chiffres-2-maitriser-excel-google-sheets/
LOCATION:En ligne
ORGANIZER;CN="h'up entrepreneurs":MAILTO:contact@h-up.fr
END:VEVENT
BEGIN:VEVENT
DTSTART;TZID=Europe/Paris:20250423T140000
DTEND;TZID=Europe/Paris:20250423T170000
DTSTAMP:20260422T235413
CREATED:20250311T145654Z
LAST-MODIFIED:20250311T145654Z
UID:21122-1745416800-1745427600@h-up.fr
SUMMARY:Ateleier : Ne plus avoir peur des chiffres #3: Speed dating Mentorat
DESCRIPTION:📅 Date : 23 avril 2025 | ⏰ 14h-17h\n📍 En visio + présentiel ( 2 Av. Tony Garnier\, 69007 Lyon) | Organisé par : h’up Aura\n\n💡 Besoin d’un coup de pouce sur vos chiffres ? Venez poser vos questions !\nQue ce soit pour votre Business Plan (BP)\, votre suivi de budget ou tout autre aspect financier\, cet événement est l’occasion d’avoir un regard expert et bienveillant sur vos chiffres.🔍\n\nLe format :☕ On se retrouve pour une session de cowork interactive!\n🔹 chacun·e a 30 minutes en face-à-face avec un mentor pour :\n✔️ Débloquer un point précis de votre gestion financière\n✔️ Obtenir des conseils concrets et applicables immédiatement\n✔️ Repartir avec plus de clarté et d’assurance sur vos finances\n\n👉 Nombre de places limitées\, priorité aux participants issus de la communauté h’up Aura et ayant assisté aux ateliers #1 et #2\n\nInscriptions: https://forms.office.com/e/VzKHmdXLRu\n\n🙂 Mentorat flash avec Nastasia Charrier\, ingénieure spécialisée en finances et consultante en pilotage et management de projet chez MIGSO-PCUBED.
URL:https://h-up.fr/event/ateleier-ne-plus-avoir-peur-des-chiffres-3-speed-dating-mentorat/
LOCATION:2 Avenue Tony Garnier 69007 Lyon\, France
ORGANIZER;CN="h'up entrepreneurs":MAILTO:contact@h-up.fr
END:VEVENT
BEGIN:VEVENT
DTSTART;TZID=Europe/Paris:20250424T150000
DTEND;TZID=Europe/Paris:20250424T180000
DTSTAMP:20260422T235413
CREATED:20241202T132633Z
LAST-MODIFIED:20241202T132807Z
UID:20674-1745506800-1745517600@h-up.fr
SUMMARY:[Permanence juridique] h'up entrepreneurs & Barreau de Paris
DESCRIPTION:h’up entrepreneurs grâce à un partenariat avec le Barreau de Paris\, vous propose des permanences juridiques tous les mois. Vous bénéficiez gratuitement d’un échange téléphonique avec un.e avocat.e pendant 30 min tous les deuxièmes et derniers jeudis du mois entre 15h et 18h. \nLa problématique doit être transmise à votre référent régional/programme par mail pour vous inscrire et au plus tard le mardi de la semaine de la permanence. \nPour participer à cette permanence\, nous vous invitons à prendre contact avec le référent h’up avec qui vous avez eu l’entretien d’accueil.
URL:https://h-up.fr/event/permanence-juridique-hup-entrepreneurs-barreau-de-paris-19/
LOCATION:Appel téléphonique
CATEGORIES:Permanence juridique
ORGANIZER;CN="h'up entrepreneurs":MAILTO:contact@h-up.fr
END:VEVENT
END:VCALENDAR