BEGIN:VCALENDAR
VERSION:2.0
PRODID:-//H&#039;up entrepreneurs - ECPv6.15.6//NONSGML v1.0//EN
CALSCALE:GREGORIAN
METHOD:PUBLISH
X-WR-CALNAME:H&#039;up entrepreneurs
X-ORIGINAL-URL:https://h-up.fr
X-WR-CALDESC:Évènements pour H&#039;up entrepreneurs
REFRESH-INTERVAL;VALUE=DURATION:PT1H
X-Robots-Tag:noindex
X-PUBLISHED-TTL:PT1H
BEGIN:VTIMEZONE
TZID:Europe/Paris
BEGIN:DAYLIGHT
TZOFFSETFROM:+0100
TZOFFSETTO:+0200
TZNAME:CEST
DTSTART:20240331T010000
END:DAYLIGHT
BEGIN:STANDARD
TZOFFSETFROM:+0200
TZOFFSETTO:+0100
TZNAME:CET
DTSTART:20241027T010000
END:STANDARD
BEGIN:DAYLIGHT
TZOFFSETFROM:+0100
TZOFFSETTO:+0200
TZNAME:CEST
DTSTART:20250330T010000
END:DAYLIGHT
BEGIN:STANDARD
TZOFFSETFROM:+0200
TZOFFSETTO:+0100
TZNAME:CET
DTSTART:20251026T010000
END:STANDARD
BEGIN:DAYLIGHT
TZOFFSETFROM:+0100
TZOFFSETTO:+0200
TZNAME:CEST
DTSTART:20260329T010000
END:DAYLIGHT
BEGIN:STANDARD
TZOFFSETFROM:+0200
TZOFFSETTO:+0100
TZNAME:CET
DTSTART:20261025T010000
END:STANDARD
END:VTIMEZONE
BEGIN:VEVENT
DTSTART;TZID=Europe/Paris:20250507T150000
DTEND;TZID=Europe/Paris:20250507T180000
DTSTAMP:20260422T235206
CREATED:20241202T133321Z
LAST-MODIFIED:20241217T090851Z
UID:20677-1746630000-1746640800@h-up.fr
SUMMARY:[Permanence juridique] h'up entrepreneurs & Barreau de Paris
DESCRIPTION:h’up entrepreneurs grâce à un partenariat avec le Barreau de Paris\, vous propose des permanences juridiques tous les mois. Vous bénéficiez gratuitement d’un échange téléphonique avec un.e avocat.e pendant 30 min tous les deuxièmes et derniers jeudis du mois entre 15h et 18h. \nLa problématique doit être transmise à votre référent régional/programme par mail pour vous inscrire et au plus tard le mardi de la semaine de la permanence. \nPour participer à cette permanence\, nous vous invitons à prendre contact avec le référent h’up avec qui vous avez eu l’entretien d’accueil.
URL:https://h-up.fr/event/permanence-juridique-hup-entrepreneurs-barreau-de-paris-20/
LOCATION:Appel téléphonique
CATEGORIES:Permanence juridique
ORGANIZER;CN="h'up entrepreneurs":MAILTO:contact@h-up.fr
END:VEVENT
BEGIN:VEVENT
DTSTART;TZID=Europe/Paris:20250507T160000
DTEND;TZID=Europe/Paris:20250507T173000
DTSTAMP:20260422T235206
CREATED:20250429T154344Z
LAST-MODIFIED:20250429T154344Z
UID:21229-1746633600-1746639000@h-up.fr
SUMMARY:Café visio Thématique : Posture entrepreneuriale
DESCRIPTION:Ce Café Visio Thématique propose un temps d’échange transversal\, ouvert à tous les entrepreneurs accompagnés\, quel que soit leur secteur d’activité.\nL’objectif : prendre un temps de recul sur sa posture entrepreneuriale\, c’est-à-dire la manière dont chacun incarne son rôle d’entrepreneur\, prend des décisions\, communique\, se positionne face aux autres (clients\, partenaires\, réseau…)\, gère son temps\, ses doutes\, ou encore son équilibre pro/perso.\n\nInscriptions: https://forms.office.com/pages/responsepage.aspx?id=2RWL1hTrwEqVKfVkzBfQdxjyPydavV5Fvah5xchlXddUQTlXV0xGV0lWS1FSQU05MjhJN0w1NTgzWC4u&origin=lprLink&route=shorturl
URL:https://h-up.fr/event/cafe-visio-thematique-posture-entrepreneuriale/
LOCATION:En ligne
ORGANIZER;CN="h'up entrepreneurs":MAILTO:contact@h-up.fr
END:VEVENT
BEGIN:VEVENT
DTSTART;TZID=Europe/Paris:20250516T120000
DTEND;TZID=Europe/Paris:20250516T130000
DTSTAMP:20260422T235206
CREATED:20241105T142356Z
LAST-MODIFIED:20250220T085025Z
UID:20394-1747396800-1747400400@h-up.fr
SUMMARY:Témoignage/Echange entre pairs - Concilier handicap et entrepreneuriat : Entreprendre à travers les défis de la situation de handicap
DESCRIPTION:« Nouveau format » Échange entre pairs pour mettre en lumière des parcours inspirants d’entrepreneurs en situation de handicap qui ont réussi à concilier handicap et entrepreneuriat.\n\nÀ chaque session\, nous ferons intervenir un ou deux entrepreneurs en situation de handicap qui vont partager avec vous leurs parcours\, leurs expériences\, les stratégies qu’ils ont mis en place pour concilier handicap et entrepreneuriat. Le choix des intervenants se basera sur la sous thématique abordée en lien avec leurs expériences.\nCes sessions seront aussi\, une occasion de créer de la rencontre entre entrepreneurs du réseau h’up #rompre l’isolement.\nOuvert à tous\n\nInscription
URL:https://h-up.fr/event/temoignage-echange-entre-pairs-concilier-handicap-et-entrepreneuriat-entreprendre-a-travers-les-defis-de-la-situation-de-handicap-arret-dactivite-suite-a-des-problemes-de-sante/
LOCATION:En ligne
CATEGORIES:Session échange entre pairs
ORGANIZER;CN="h'up entrepreneurs":MAILTO:contact@h-up.fr
END:VEVENT
BEGIN:VEVENT
DTSTART;TZID=Europe/Paris:20250520T100000
DTEND;TZID=Europe/Paris:20250520T120000
DTSTAMP:20260422T235206
CREATED:20250311T145952Z
LAST-MODIFIED:20250311T145952Z
UID:21125-1747735200-1747742400@h-up.fr
SUMMARY:Atelier: Formation Propriété Intellectuelle : Protéger son activité et ses créations
DESCRIPTION:📜 Formation Propriété Intellectuelle : Protéger son activité et ses créations\n\nQue vous soyez artiste\, auteur\, développeur\, ou chef d’entreprise\, comprendre la propriété intellectuelle est essentiel pour protéger votre travail et éviter les litiges. Cette formation vous donnera les clés juridiques pour sécuriser vos créations et votre marque.\n\nAu programme: Droit d’auteur (comment protéger ses œuvres\, contrats et cessions de droits)\, marques (pourquoi et comment déposer une marque\, quels risques à éviter) et Logiciels (droits des développeurs\, open source\, propriété et licences).\n\nLa formation comprendra une partie théorique et un Q&A (questions/réponses).\n\nInscriptions: https://forms.office.com/e/jn7H1vRsv1\n\n🙂 Atelier animé par Morgane Morisson-Cardinaud\, avocate au barreau de Lyon.
URL:https://h-up.fr/event/atelier-formation-propriete-intellectuelle-proteger-son-activite-et-ses-creations/
LOCATION:En ligne
ORGANIZER;CN="h'up entrepreneurs":MAILTO:contact@h-up.fr
END:VEVENT
BEGIN:VEVENT
DTSTART;TZID=Europe/Paris:20250520T100000
DTEND;TZID=Europe/Paris:20250520T120000
DTSTAMP:20260422T235206
CREATED:20250429T152453Z
LAST-MODIFIED:20250429T152453Z
UID:21214-1747735200-1747742400@h-up.fr
SUMMARY:📜 Formation Propriété Intellectuelle : Protéger son activité et ses créations
DESCRIPTION:Que vous soyez artiste\, auteur\, développeur\, ou chef d’entreprise\, comprendre la propriété intellectuelle est essentiel pour protéger votre travail et éviter les litiges. Cette formation vous donnera les clés juridiques pour sécuriser vos créations et votre marque.\n\nAu programme: Droit d’auteur (comment protéger ses œuvres\, contrats et cessions de droits)\, marques (pourquoi et comment déposer une marque\, quels risques à éviter) et Logiciels (droits des développeurs\, open source\, propriété et licences).\n\nLa formation comprendra une partie théorique et un Q&A (questions/réponses).\n\n🙂 Atelier animé par Morgane Morisson-Cardinaud\, avocate au barreau de Lyon.\n\nInscriptions: https://forms.office.com/e/jn7H1vRsv1
URL:https://h-up.fr/event/%f0%9f%93%9c-formation-propriete-intellectuelle-proteger-son-activite-et-ses-creations/
LOCATION:2 Avenue Tony Garnier 69007 Lyon\, France
ORGANIZER;CN="h'up entrepreneurs":MAILTO:contact@h-up.fr
END:VEVENT
BEGIN:VEVENT
DTSTART;TZID=Europe/Paris:20250520T140000
DTEND;TZID=Europe/Paris:20250520T160000
DTSTAMP:20260422T235206
CREATED:20250224T170312Z
LAST-MODIFIED:20250506T151747Z
UID:21105-1747749600-1747756800@h-up.fr
SUMMARY:Atelier Mentorat Flash Keyrus x h'up
DESCRIPTION:Les collaborateurs de l’entreprise Keyrus\, partenaire h’up se mobiliseront le mardi 20 mai de 14h à 16h pour apporter un coup de pouce à 5 entrepreneurs du réseau h’up entrepreneurs. Pour plus d’information\, veuillez prendre contact avec un référent.
URL:https://h-up.fr/event/atelier-mentorat-flash-keyrus-x-hup/
LOCATION:En ligne
ORGANIZER;CN="h'up entrepreneurs":MAILTO:contact@h-up.fr
END:VEVENT
BEGIN:VEVENT
DTSTART;TZID=Europe/Paris:20250521T160000
DTEND;TZID=Europe/Paris:20250521T173000
DTSTAMP:20260422T235206
CREATED:20250429T153451Z
LAST-MODIFIED:20250429T153451Z
UID:21223-1747843200-1747848600@h-up.fr
SUMMARY:Café Visio Métier : Bien être
DESCRIPTION:Le Café Visio Métier est un format d’échange entre entrepreneurs exerçant dans un même secteur. L’objectif est de favoriser les discussions entre pairs autour de leurs pratiques\, de leurs enjeux quotidiens et de leur posture entrepreneuriale.\nCette session est dédiée aux métiers du bien-être : sophrologues\, coachs\, praticiens en soins énergétiques\, etc.\nL’idée est de leur offrir un espace d’expression\, de partage d’expérience et d’intelligence collective\, dans une ambiance conviviale et bienveillante.\n\nCe webinaire est ouvert à tous les entrepreneur ayant une activité orienté sur le bien être (massage\, sophrologue\, coach ..etc)\n\ninscriptions: https://forms.office.com/e/54twqtD3ZU?origin=lprLink
URL:https://h-up.fr/event/cafe-visio-metier-bien-etre/
LOCATION:En ligne
ORGANIZER;CN="h'up entrepreneurs":MAILTO:contact@h-up.fr
END:VEVENT
BEGIN:VEVENT
DTSTART;TZID=Europe/Paris:20250529T150000
DTEND;TZID=Europe/Paris:20250529T180000
DTSTAMP:20260422T235206
CREATED:20241202T133435Z
LAST-MODIFIED:20241202T133435Z
UID:20680-1748530800-1748541600@h-up.fr
SUMMARY:[Permanence juridique] h'up entrepreneurs & Barreau de Paris
DESCRIPTION:h’up entrepreneurs grâce à un partenariat avec le Barreau de Paris\, vous propose des permanences juridiques tous les mois. Vous bénéficiez gratuitement d’un échange téléphonique avec un.e avocat.e pendant 30 min tous les deuxièmes et derniers jeudis du mois entre 15h et 18h. \nLa problématique doit être transmise à votre référent régional/programme par mail pour vous inscrire et au plus tard le mardi de la semaine de la permanence. \nPour participer à cette permanence\, nous vous invitons à prendre contact avec le référent h’up avec qui vous avez eu l’entretien d’accueil.
URL:https://h-up.fr/event/permanence-juridique-hup-entrepreneurs-barreau-de-paris-21/
LOCATION:Appel téléphonique
CATEGORIES:Permanence juridique
ORGANIZER;CN="h'up entrepreneurs":MAILTO:contact@h-up.fr
END:VEVENT
BEGIN:VEVENT
DTSTART;TZID=Europe/Paris:20250530T140000
DTEND;TZID=Europe/Paris:20250530T164000
DTSTAMP:20260422T235206
CREATED:20250311T154214Z
LAST-MODIFIED:20250506T151110Z
UID:21144-1748613600-1748623200@h-up.fr
SUMMARY:Permanences discours commercial
DESCRIPTION:Des permanences sont assurées par Sylvain Hatik\, coach certifié en prise de parole. L’entrepreneur bénéficie d’un échange en visio avec Sylvain pendant 40 min. Tous les derniers vendredis du mois entre 14h et 16h40. La problématique doit être transmise au référent régional.
URL:https://h-up.fr/event/permanences-discours-commercial-3/
LOCATION:En ligne
ORGANIZER;CN="h'up entrepreneurs":MAILTO:contact@h-up.fr
END:VEVENT
END:VCALENDAR