BEGIN:VCALENDAR
VERSION:2.0
PRODID:-//H&#039;up entrepreneurs - ECPv6.15.6//NONSGML v1.0//EN
CALSCALE:GREGORIAN
METHOD:PUBLISH
X-ORIGINAL-URL:https://h-up.fr
X-WR-CALDESC:Évènements pour H&#039;up entrepreneurs
REFRESH-INTERVAL;VALUE=DURATION:PT1H
X-Robots-Tag:noindex
X-PUBLISHED-TTL:PT1H
BEGIN:VTIMEZONE
TZID:Europe/Paris
BEGIN:DAYLIGHT
TZOFFSETFROM:+0100
TZOFFSETTO:+0200
TZNAME:CEST
DTSTART:20240331T010000
END:DAYLIGHT
BEGIN:STANDARD
TZOFFSETFROM:+0200
TZOFFSETTO:+0100
TZNAME:CET
DTSTART:20241027T010000
END:STANDARD
BEGIN:DAYLIGHT
TZOFFSETFROM:+0100
TZOFFSETTO:+0200
TZNAME:CEST
DTSTART:20250330T010000
END:DAYLIGHT
BEGIN:STANDARD
TZOFFSETFROM:+0200
TZOFFSETTO:+0100
TZNAME:CET
DTSTART:20251026T010000
END:STANDARD
BEGIN:DAYLIGHT
TZOFFSETFROM:+0100
TZOFFSETTO:+0200
TZNAME:CEST
DTSTART:20260329T010000
END:DAYLIGHT
BEGIN:STANDARD
TZOFFSETFROM:+0200
TZOFFSETTO:+0100
TZNAME:CET
DTSTART:20261025T010000
END:STANDARD
END:VTIMEZONE
BEGIN:VEVENT
DTSTART;TZID=Europe/Paris:20250701T100000
DTEND;TZID=Europe/Paris:20250701T120000
DTSTAMP:20260422T192016
CREATED:20250429T153121Z
LAST-MODIFIED:20250429T153121Z
UID:21220-1751364000-1751371200@h-up.fr
SUMMARY:📑 Formation : Le droit des contrats pour entrepreneur.es
DESCRIPTION:💡 Contrats\, devis\, factures… Que faut-il vraiment formaliser ? En tant qu’entrepreneur\, vous signez et rédigez des contrats régulièrement\, mais faut-il toujours faire appel à un avocat ? Peut-on rédiger soi-même certains documents ? Une simple facture suffit-elle dans certains cas ? Cette formation vous apportera une approche pragmatique du droit des contrats pour vous permettre de gagner en autonomie tout en sécurisant vos engagements professionnels.\n\nAu programme :\n✔️ Comprendre les bases du contrat : qu’est-ce qui le rend valide et opposable ?\n✔️ Rédiger soi-même ou faire appel à un pro ? Cas pratiques et critères de décision\n✔️ Facture\, devis\, bon de commande : quand suffisent-ils ?\n✔️ Clauses essentielles à ne jamais négliger (responsabilité\, délais\, litiges…)\n\nLa formation comprendra une partie théorique et un Q&A (questions/réponses).\n\n🙂 Atelier animé par Morgane Morisson-Cardinaud\, avocate au barreau de Lyon.\n\nInscriptions: https://forms.office.com/e/ejxpJwQQr6\n\nEn présentiel + visio
URL:https://h-up.fr/event/%f0%9f%93%91-formation-le-droit-des-contrats-pour-entrepreneur-es/
ORGANIZER;CN="h'up entrepreneurs":MAILTO:contact@h-up.fr
END:VEVENT
BEGIN:VEVENT
DTSTART;TZID=Europe/Paris:20250702T160000
DTEND;TZID=Europe/Paris:20250702T173000
DTSTAMP:20260422T192016
CREATED:20250429T153807Z
LAST-MODIFIED:20250429T153858Z
UID:21226-1751472000-1751477400@h-up.fr
SUMMARY:Café Visio Métier : Communication
DESCRIPTION:Le Café Visio Métier est un temps d’échange entre entrepreneurs exerçant dans un même secteur. Il vise à créer une dynamique de partage autour des réalités du métier\, des défis rencontrés au quotidien et des bonnes pratiques.\nCette session s’adresse aux profils évoluant dans les métiers de la communication : community managers\, consultants en stratégie de com\, créateurs de contenus\, graphistes\, etc.\nL’objectif est de leur permettre de se retrouver entre pairs pour échanger\, s’entraider\, questionner leurs pratiques et repartir avec des idées ou des outils concrets.\n\nOuvert à toutes les personnes ayant une activité ou souhaitant lancer une activité dans les métiers de la communication\n\nInscriptions: https://forms.office.com/e/54twqtD3ZU?origin=lprLink
URL:https://h-up.fr/event/cafe-visio-metier-communication/
LOCATION:En ligne
ORGANIZER;CN="h'up entrepreneurs":MAILTO:contact@h-up.fr
END:VEVENT
BEGIN:VEVENT
DTSTART;TZID=Europe/Paris:20250704T120000
DTEND;TZID=Europe/Paris:20250704T130000
DTSTAMP:20260422T192016
CREATED:20241105T142727Z
LAST-MODIFIED:20241112T153231Z
UID:20397-1751630400-1751634000@h-up.fr
SUMMARY:Témoignage/Échange entre pairs - Concilier handicap et entrepreneuriat : Transformer les Défis en Opportunités Témoignage d’entrepreneurs qui ont fait de leur handicap une force et une opportunité pour innover  Echange d’expériences et conseils pratiques
DESCRIPTION:« Nouveau format » Échange entre pairs pour mettre en lumière des parcours inspirants d’entrepreneurs en situation de handicap qui ont réussi à concilier handicap et entrepreneuriat.\n\nÀ chaque session\, nous ferons intervenir un ou deux entrepreneurs en situation de handicap qui vont partager avec vous leurs parcours\, leurs expériences\, les stratégies qu’ils ont mis en place pour concilier handicap et entrepreneuriat. Le choix des intervenants se basera sur la sous thématique abordée en lien avec leurs expériences.\nCes sessions seront aussi\, une occasion de créer de la rencontre entre entrepreneurs du réseau h’up #rompre l’isolement.\nOuvert à tous\n\nInscription
URL:https://h-up.fr/event/temoignage-echange-entre-pairs-concilier-handicap-et-entrepreneuriat-transformer-les-defis-en-opportunites-temoignage-dentrepreneurs-qui-ont-fait-de-leur-handicap-une-force-et-une-opportu-4/
LOCATION:En ligne
CATEGORIES:Session échange entre pairs
ORGANIZER;CN="h'up entrepreneurs":MAILTO:contact@h-up.fr
END:VEVENT
BEGIN:VEVENT
DTSTART;TZID=Europe/Paris:20250710T150000
DTEND;TZID=Europe/Paris:20250710T180000
DTSTAMP:20260422T192016
CREATED:20241205T153006Z
LAST-MODIFIED:20241205T153006Z
UID:20739-1752159600-1752170400@h-up.fr
SUMMARY:[Permanence juridique] h'up entrepreneurs & Barreau de Paris
DESCRIPTION:h’up entrepreneurs grâce à un partenariat avec le Barreau de Paris\, vous propose des permanences juridiques tous les mois. Vous bénéficiez gratuitement d’un échange téléphonique avec un.e avocat.e pendant 30 min tous les deuxièmes et derniers jeudis du mois entre 15h et 18h. \nLa problématique doit être transmise à votre référent régional/programme par mail pour vous inscrire et au plus tard le mardi de la semaine de la permanence. \nPour participer à cette permanence\, nous vous invitons à prendre contact avec le référent h’up avec qui vous avez eu l’entretien d’accueil.
URL:https://h-up.fr/event/permanence-juridique-hup-entrepreneurs-barreau-de-paris-24/
LOCATION:Appel téléphonique
CATEGORIES:Permanence juridique
ORGANIZER;CN="h'up entrepreneurs":MAILTO:contact@h-up.fr
END:VEVENT
END:VCALENDAR