BEGIN:VCALENDAR
VERSION:2.0
PRODID:-//H&#039;up entrepreneurs - ECPv6.15.6//NONSGML v1.0//EN
CALSCALE:GREGORIAN
METHOD:PUBLISH
X-ORIGINAL-URL:https://h-up.fr
X-WR-CALDESC:Évènements pour H&#039;up entrepreneurs
REFRESH-INTERVAL;VALUE=DURATION:PT1H
X-Robots-Tag:noindex
X-PUBLISHED-TTL:PT1H
BEGIN:VTIMEZONE
TZID:Europe/Paris
BEGIN:DAYLIGHT
TZOFFSETFROM:+0100
TZOFFSETTO:+0200
TZNAME:CEST
DTSTART:20250330T010000
END:DAYLIGHT
BEGIN:STANDARD
TZOFFSETFROM:+0200
TZOFFSETTO:+0100
TZNAME:CET
DTSTART:20251026T010000
END:STANDARD
BEGIN:DAYLIGHT
TZOFFSETFROM:+0100
TZOFFSETTO:+0200
TZNAME:CEST
DTSTART:20260329T010000
END:DAYLIGHT
BEGIN:STANDARD
TZOFFSETFROM:+0200
TZOFFSETTO:+0100
TZNAME:CET
DTSTART:20261025T010000
END:STANDARD
BEGIN:DAYLIGHT
TZOFFSETFROM:+0100
TZOFFSETTO:+0200
TZNAME:CEST
DTSTART:20270328T010000
END:DAYLIGHT
BEGIN:STANDARD
TZOFFSETFROM:+0200
TZOFFSETTO:+0100
TZNAME:CET
DTSTART:20271031T010000
END:STANDARD
END:VTIMEZONE
BEGIN:VEVENT
DTSTART;TZID=Europe/Paris:20260211T090000
DTEND;TZID=Europe/Paris:20260211T110000
DTSTAMP:20260422T082151
CREATED:20260204T085329Z
LAST-MODIFIED:20260204T085329Z
UID:21681-1770800400-1770807600@h-up.fr
SUMMARY:💻 Webinaire thématique  le Lab - Segmenter votre marché pour mieux cibler les futurs clients
DESCRIPTION:Une première étude de marché a confirmé que votre offre de produits ou services peut intéresser des futurs clients ? \n👉 Il est temps de structurer votre stratégie. \nAu programme :\n✅ La segmentation pour classer vos prospects par typologie\n✅ Le ciblage pour choisir le segment le plus pertinent à adresser en priorité (facilité d’accès\, rentabilité\, early adopters…)\n✅ Le positionnement pour placer votre offre de manière claire et différenciante face à vos concurrents (mix marketing) \nWebinaire animé par\, Hervé Le Saux\, DG de CCA\, fondateur de Kerostin Mobility Solutions et Stellarea. \n👉 Pour s’inscrire\, il suffit de cliquer sur ce lien : https://forms.office.com/e/UP84KNJbtm?origin=lprLink (inscription possible jusqu’au 10 février matin.)
URL:https://h-up.fr/event/%f0%9f%92%bb-webinaire-thematique-le-lab-segmenter-votre-marche-pour-mieux-cibler-les-futurs-clients/
LOCATION:En ligne
CATEGORIES:Webinaire
END:VEVENT
BEGIN:VEVENT
DTSTART;TZID=Europe/Paris:20260211T110000
DTEND;TZID=Europe/Paris:20260211T170000
DTSTAMP:20260422T082151
CREATED:20260204T084826Z
LAST-MODIFIED:20260204T084826Z
UID:21677-1770807600-1770829200@h-up.fr
SUMMARY:☎️ Permanence déblocage commercial
DESCRIPTION:Lila Brahmi\, coach certifiée\, accompagne dirigeants et entrepreneurs\, y compris en fragilité psychique. Elle propose une permanence mensuelle (3 pers.\, 1h30) pour clarifier et débloquer les situations. \nPour participer à cette permanence\, nous vous invitons à prendre contact avec le référent h’up avec qui vous avez eu l’entretien d’accueil.
URL:https://h-up.fr/event/permanence-deblocage-commercial/
LOCATION:Appel téléphonique
CATEGORIES:Permanence déblocage entrepreneurial
ORGANIZER;CN="h'up entrepreneurs":MAILTO:contact@h-up.fr
END:VEVENT
BEGIN:VEVENT
DTSTART;TZID=Europe/Paris:20260212T120000
DTEND;TZID=Europe/Paris:20260212T140000
DTSTAMP:20260422T082151
CREATED:20260204T085548Z
LAST-MODIFIED:20260204T085640Z
UID:21684-1770897600-1770904800@h-up.fr
SUMMARY:🚀 Session d'accueil collective
DESCRIPTION:Participez à une session d’accueil conviviale pour découvrir h’up\, ses valeurs et ses accompagnements. \nRencontrez d’autres entrepreneurs\, échangez et posez vos questions. Vous repartirez avec toutes les clés pour bien démarrer avec h’up. \nPour vous inscrire c’est ici : lien d’inscription \n 
URL:https://h-up.fr/event/session-daccueil-collective-3/
CATEGORIES:Session accueil collectif
END:VEVENT
BEGIN:VEVENT
DTSTART;TZID=Europe/Paris:20260212T150000
DTEND;TZID=Europe/Paris:20260212T180000
DTSTAMP:20260422T082151
CREATED:20260204T084446Z
LAST-MODIFIED:20260204T084849Z
UID:21674-1770908400-1770919200@h-up.fr
SUMMARY:☎️ Permanence juridique - h'up entrepreneurs & Barreau de Paris
DESCRIPTION:h’up entrepreneurs\, grâce à un partenariat avec le Barreau de Paris\, vous propose des permanences juridiques tous les mois. Vous bénéficiez gratuitement d’un échange téléphonique avec un avocat pendant 30 min tous les deuxièmes et derniers jeudis du mois entre 15h et 18h. \nLa problématique doit être transmise à votre référent régional/programme par mail pour vous inscrire et au plus tard le mardi de la semaine de la permanence. \nPour participer à cette permanence\, nous vous invitons à prendre contact avec le référent h’up avec qui vous avez eu l’entretien d’accueil.
URL:https://h-up.fr/event/permanence-juridique-hup-entrepreneurs-barreau-de-paris-32/
LOCATION:Appel téléphonique
CATEGORIES:Permanence juridique
ORGANIZER;CN="h'up entrepreneurs":MAILTO:contact@h-up.fr
END:VEVENT
BEGIN:VEVENT
DTSTART;TZID=Europe/Paris:20260216T100000
DTEND;TZID=Europe/Paris:20260216T120000
DTSTAMP:20260422T082151
CREATED:20260204T090102Z
LAST-MODIFIED:20260204T090126Z
UID:21688-1771236000-1771243200@h-up.fr
SUMMARY:💻 Webinaire thématique  le Lab - Mettre en conformité son site internet et ses communications
DESCRIPTION:Animé par Adrien Thuriès\, juriste senior chez Aéroports de Paris\, diplômé de Paris V et HEC\, expert en droit des affaires et de la distribution. \n🎯 Objectif : aider les entrepreneurs à sécuriser leur activité\, éviter les erreurs courantes et mieux comprendre leurs obligations juridiques. \n🧩 Au programme : \n\nMentions légales\, politique de confidentialité\, cookies\nCGV / CGU\, déclaration d’accessibilité\nAllégations commerciales et environnementales\nRisques et sanctions applicables\n\nUn atelier concret et accessible pour entreprendre plus sereinement. \n👉 Pour s’inscrire\, il suffit de cliquer sur ce lien : Lien d’inscription (inscription possible jusqu’au 13 février matin.)
URL:https://h-up.fr/event/webinaire-thematique-le-lab-mettre-en-conformite-son-site/
LOCATION:En ligne
CATEGORIES:Webinaire
END:VEVENT
BEGIN:VEVENT
DTSTART;TZID=Europe/Paris:20260217T140000
DTEND;TZID=Europe/Paris:20260217T153000
DTSTAMP:20260422T082151
CREATED:20260204T090417Z
LAST-MODIFIED:20260204T091045Z
UID:21691-1771336800-1771342200@h-up.fr
SUMMARY:💻 Webinaire thématique  le Lab - La prévention des risques liés à l'activité entrepreneuriale
DESCRIPTION:h’up entrepreneurs et TIH Booster 38 & 69\, en partenariat avec la Fondation Entrepreneurs de la Cité\, ont le plaisir de vous inviter à un webinaire national dédié à la prévention des risques liés à l’activité entrepreneuriale. \nCe temps d’échange s’adresse aux porteur·se·s de projet et aux travailleurs indépendants souhaitant mieux comprendre les risques auxquels ils peuvent être confrontés et les solutions existantes pour sécuriser et pérenniser leur activité\, dans une approche pédagogique et non commerciale. \nAu programme : Les risques de l’entreprise \nÀ partir d’exemples concrets\, ce webinaire abordera les principaux risques pouvant impacter une activité indépendante : \n\nrisques liés au local professionnel (vol\, dégât des eaux\, etc.)\,\nlitiges avec les clients ou les fournisseurs\,\nproblèmes de santé et conséquences sur l’activité.\n\nL’objectif est d’aider chaque participant à identifier les risques professionnels et à comprendre quelles solutions assurantielles peuvent protéger son activité en cas de difficulté. \n👉 Pour s’inscrire\, il suffit de cliquer sur ce lien : Lien d’inscription (inscription possible jusqu’au 13 février matin.)
URL:https://h-up.fr/event/%f0%9f%92%bb-webinaire-thematique-le-lab-la-prevention-des-risques-lies-a-lactivite-entrepreneuriale/
LOCATION:En ligne
CATEGORIES:Webinaire
END:VEVENT
BEGIN:VEVENT
DTSTART;TZID=Europe/Paris:20260218T160000
DTEND;TZID=Europe/Paris:20260218T180000
DTSTAMP:20260422T082151
CREATED:20260204T091424Z
LAST-MODIFIED:20260204T091424Z
UID:21694-1771430400-1771437600@h-up.fr
SUMMARY:🫧 Webinaire thématique La Bulle d'H'up - Émotions et respiration
DESCRIPTION:La Bulle d’h’up vous invite à un webinaire animé par Fabiola Cova Parra\, coach pour entrepreneurs et instructrice de pleine conscience. Pensé comme une parenthèse douce au cœur du quotidien\, ce webinaire de 2 heures est ouvert à toutes et tous.\nC’est un espace convivial\, sécurisant et bienveillant pour ralentir\, respirer\, se déposer… et repartir plus ancré. Au fil de la séance\, vous explorerez vos émotions sans pression\, apprendrez à respirer autrement et découvrirez des outils simples et concrets pour : \n\napaiser le mental\nretrouver de l’énergie\ngagner en clarté et en présence dans vos décisions\nmieux traverser les défis du travail et de la vie\n\nChaque pratique proposée est adaptable et respectueuse des rythmes et des besoins de chacun\, afin que vous puissiez vous approprier les exercices à votre façon. Un véritable temps pour souffler\, se reconnecter à soi et repartir avec des gestes utiles à intégrer dans votre quotidien. \n👉 Pour s’inscrire\, il suffit de cliquer sur ce lien : Lien d’inscription (inscription possible jusqu’au 17 février matin.)
URL:https://h-up.fr/event/webinaire-thematique-la-bulle-dhup-emotions-et-respiration/
CATEGORIES:Webinaire
END:VEVENT
BEGIN:VEVENT
DTSTART;TZID=Europe/Paris:20260220T120000
DTEND;TZID=Europe/Paris:20260220T130000
DTSTAMP:20260422T082151
CREATED:20260204T091747Z
LAST-MODIFIED:20260204T091747Z
UID:21697-1771588800-1771592400@h-up.fr
SUMMARY:👬 Échange entre pairs
DESCRIPTION:Entreprendre quand on est en situation de handicap\, c’est souvent devoir faire preuve d’une créativité\, d’une résilience et d’une capacité d’adaptation hors normes. \nMais c’est aussi\, trop souvent\, avancer seul. \nC’est pour rompre cet isolement que le réseau h’up organise des échanges entre pairs : des temps de rencontre où des entrepreneurs en situation de handicap partagent leurs parcours\, leurs stratégies et leurs réalités du terrain. \n📅 Le 20 février\, de 12h à 13h\, nous aurons le plaisir d’accueillir Diane Dupont\, \n🎤 Experte Inclusion & QVCT\, \n🌱 Fondatrice d’Ekité – pour un monde du travail plus juste. \nDiane viendra témoigner de son parcours et partager sa vision de l’inclusion dans l’entrepreneuriat mais aussi concrètement comment elle organise et gère son temps en tant qu’entrepreneurse. \nUn temps d’échange authentique\, sans filtre\, pensé pour : \n🤝 créer du lien entre entrepreneurs \n💡 s’inspirer de parcours concrets \n🧩 et repartir avec des clés utiles pour son propre chemin \n👉 Entrepreneurs du réseau h’up\, vous êtes les bienvenus. \n  \n📝 Inscription jusqu’au 19 février matin : Lien d’inscription \n  \n 
URL:https://h-up.fr/event/echange-entre-pairs-4/
LOCATION:En ligne
CATEGORIES:Session échange entre pairs
END:VEVENT
BEGIN:VEVENT
DTSTART;TZID=Europe/Paris:20260223T090000
DTEND;TZID=Europe/Paris:20260223T103000
DTSTAMP:20260422T082151
CREATED:20260204T091954Z
LAST-MODIFIED:20260204T092009Z
UID:21701-1771837200-1771842600@h-up.fr
SUMMARY:💻 Webinaire thématique le Lab - Session de sensibilisation à l'entrepreneuriat
DESCRIPTION:Un temps privilégié pour découvrir les premiers pas dans l’entrepreneuriat\, avec au programme : \n\nLes démarches incontournables pour se lancer 🚀\nDéconstruction des idées reçues et préjugés 🤔\nPartage d’expériences et réponses à vos premières questions 💬\nPanorama des ressources et accompagnements possibles 🛠️\n\nUn rendez-vous pensé comme une porte d’entrée conviviale et accessible\, pour t’informer\, clarifier tes idées et\, peut-être\, amorcer ton projet entrepreneurial. 🌟 \n👉 Pour s’inscrire\, il suffit de cliquer sur ce lien : Lien d’inscription
URL:https://h-up.fr/event/webinaire-thematique-le-lab-session-de-sensibilisation-a-lentrepreneuriat/
LOCATION:En ligne
CATEGORIES:Webinaire
END:VEVENT
BEGIN:VEVENT
DTSTART;TZID=Europe/Paris:20260224T093000
DTEND;TZID=Europe/Paris:20260224T123000
DTSTAMP:20260422T082151
CREATED:20260205T102622Z
LAST-MODIFIED:20260205T103526Z
UID:21719-1771925400-1771936200@h-up.fr
SUMMARY:🚀 Session de sensibilisation à l'entrepreneuriat [Clermont-Ferrand]
DESCRIPTION:Tu te poses des questions sur l’entrepreneuriat et sur ce que cela implique quand on vit avec un handicap ou une fragilité de santé ?\nQue tu sois au stade de l’idée\, du lancement ou déjà immatriculé\, cette session est faite pour t’aider à y voir plus clair. \nAu programme : \n🚀 Les démarches incontournables pour se lancer\n🤔 Déconstruction des idées reçues et préjugés\n💬 Partage d’expériences et réponses à vos premières questions\n🛠️ Panorama des ressources et accompagnements possibles  \nPour vous inscrire c’est ici : lien d’inscription \n🤝 Merci à notre partenaire Cap Emploi 63 qui nous accueille dans leurs locaux. Avec le soutien de la Région Auvergne-Rhône-Alpes.
URL:https://h-up.fr/event/session-de-sensibilisation-a-lentrepreneuriat-region-aura/
LOCATION:Cap Emploi 63\, 19 boulevard Berthelot\, Chamalières\, 63400
CATEGORIES:Session de sensibilisation
END:VEVENT
BEGIN:VEVENT
DTSTART;TZID=Europe/Paris:20260226T150000
DTEND;TZID=Europe/Paris:20260226T180000
DTSTAMP:20260422T082152
CREATED:20260204T092110Z
LAST-MODIFIED:20260204T092110Z
UID:21704-1772118000-1772128800@h-up.fr
SUMMARY:☎️ Permanence juridique - h'up entrepreneurs & Barreau de Paris
DESCRIPTION:h’up entrepreneurs\, grâce à un partenariat avec le Barreau de Paris\, vous propose des permanences juridiques tous les mois. Vous bénéficiez gratuitement d’un échange téléphonique avec un avocat pendant 30 min tous les deuxièmes et derniers jeudis du mois entre 15h et 18h. \nLa problématique doit être transmise à votre référent régional/programme par mail pour vous inscrire et au plus tard le mardi de la semaine de la permanence. \nPour participer à cette permanence\, nous vous invitons à prendre contact avec le référent h’up avec qui vous avez eu l’entretien d’accueil.
URL:https://h-up.fr/event/permanence-juridique-hup-entrepreneurs-barreau-de-paris-33/
LOCATION:Appel téléphonique
CATEGORIES:Permanence juridique
ORGANIZER;CN="h'up entrepreneurs":MAILTO:contact@h-up.fr
END:VEVENT
BEGIN:VEVENT
DTSTART;TZID=Europe/Paris:20260227T100000
DTEND;TZID=Europe/Paris:20260227T120000
DTSTAMP:20260422T082152
CREATED:20260204T092303Z
LAST-MODIFIED:20260204T092303Z
UID:21707-1772186400-1772193600@h-up.fr
SUMMARY:💡Boost and Work : motivés ensemble !
DESCRIPTION:🚀 Boost and Work – Nouveau format en ligne ! \nEnvie de rester motivé et de concrétiser tes objectifs du mois ? Rejoins Boost and Work\, un rendez-vous collectif en ligne qui mêle coworking\, motivation et énergie de groupe. \nComment ça fonctionne : \n✨ Fixe ton objectif du mois \n✨ Participe à des sessions de travail partagé \n✨ Profite du partner work pour rester motivé en binôme \n✨ Laisse l’énergie du groupe te booster et avancer efficacement \n📅 Plusieurs sessions disponibles dans les mois à venir – tu peux t’inscrire à une ou plusieurs séances ! \n🔗 Lien d’inscription
URL:https://h-up.fr/event/%f0%9f%92%a1boost-and-work-motives-ensemble/
LOCATION:visio
CATEGORIES:Boost and work
END:VEVENT
BEGIN:VEVENT
DTSTART;TZID=Europe/Paris:20260227T140000
DTEND;TZID=Europe/Paris:20260227T164000
DTSTAMP:20260422T082152
CREATED:20260204T092425Z
LAST-MODIFIED:20260205T103125Z
UID:21710-1772200800-1772210400@h-up.fr
SUMMARY:☎️ Permanence discours commercial
DESCRIPTION:Vous souhaitez affiner le pitch de votre projet ? Améliorer votre discours dans votre recherche de prospect ? Les permanences discours commerciales sont faites pour vous !\nAssurées par Sylvain Hatik\, coach certifié en prise de parole. Vous bénéficierez d’un échange en visio avec Sylvain pendant 40 min.\nCes permanences ont lieu tous les derniers vendredis du mois entre 14h et 16h40. \nN’hésitez pas à contacter votre référent d’accompagnement\, pour une inscription si vous êtes intéressé !
URL:https://h-up.fr/event/permanence-discours-commercial-15/
LOCATION:En ligne
CATEGORIES:Permanence discours commercial
END:VEVENT
END:VCALENDAR