BEGIN:VCALENDAR
VERSION:2.0
PRODID:-//H&#039;up entrepreneurs - ECPv6.15.6//NONSGML v1.0//EN
CALSCALE:GREGORIAN
METHOD:PUBLISH
X-ORIGINAL-URL:https://h-up.fr
X-WR-CALDESC:Évènements pour H&#039;up entrepreneurs
REFRESH-INTERVAL;VALUE=DURATION:PT1H
X-Robots-Tag:noindex
X-PUBLISHED-TTL:PT1H
BEGIN:VTIMEZONE
TZID:Europe/Paris
BEGIN:DAYLIGHT
TZOFFSETFROM:+0100
TZOFFSETTO:+0200
TZNAME:CEST
DTSTART:20250330T010000
END:DAYLIGHT
BEGIN:STANDARD
TZOFFSETFROM:+0200
TZOFFSETTO:+0100
TZNAME:CET
DTSTART:20251026T010000
END:STANDARD
BEGIN:DAYLIGHT
TZOFFSETFROM:+0100
TZOFFSETTO:+0200
TZNAME:CEST
DTSTART:20260329T010000
END:DAYLIGHT
BEGIN:STANDARD
TZOFFSETFROM:+0200
TZOFFSETTO:+0100
TZNAME:CET
DTSTART:20261025T010000
END:STANDARD
BEGIN:DAYLIGHT
TZOFFSETFROM:+0100
TZOFFSETTO:+0200
TZNAME:CEST
DTSTART:20270328T010000
END:DAYLIGHT
BEGIN:STANDARD
TZOFFSETFROM:+0200
TZOFFSETTO:+0100
TZNAME:CET
DTSTART:20271031T010000
END:STANDARD
END:VTIMEZONE
BEGIN:VEVENT
DTSTART;TZID=Europe/Paris:20260306T090000
DTEND;TZID=Europe/Paris:20260306T103000
DTSTAMP:20260422T062519
CREATED:20260302T080739Z
LAST-MODIFIED:20260302T080739Z
UID:21863-1772787600-1772793000@h-up.fr
SUMMARY:🫧 Webinaire thématique La Bulle d'H'up - Le feedback : un cadeau empoisonné ?
DESCRIPTION:« Je peux te donner un feedback ? »\nQue ressentez-vous lorsqu’on vous pose cette question ? Pour cette nouvelle Bulle d’h’up\, nous aurons le plaisir d’accueillir Saibatou Daillo\, Coach Agile Professionnelle\, TIH et fondatrice de WAKILEE (courage en peul). Elle accompagne managers\, équipes et entrepreneurs à développer un leadership authentique\, clair et robuste\, ancré dans l’humain et la présence. \n🔎 Au programme : \nÀ partir des apports des neurosciences\, nous explorerons l’expérience de celle et ceux qui donnent et qui reçoivent du feedback. \nInspiré d’une conférence de Jenni Jepsen\, cette session proposera : \n\ndes pistes concrètes pour mieux gérer le feedback (qu’on le donne ou qu’on le reçoive)\,\ndes clés pour demander et formuler des retours plus utiles\,\ndes leviers pour créer une véritable culture du feedback dans votre environnement professionnel.\n\nUn temps pour prendre de la hauteur\, questionner nos pratiques et repartir avec des outils activables immédiatement. Au plaisir de vous retrouver dans cette nouvelle Bulle d’h’up 🌿 \n👉 Pour s’inscrire\, il suffit de cliquer sur ce lien : Lien d’inscription (inscription possible jusqu’au 5 mars matin.)
URL:https://h-up.fr/event/%f0%9f%ab%a7-webinaire-thematique-la-bulle-dhup-le-feedback-un-cadeau-empoisonne/
CATEGORIES:Webinaire
END:VEVENT
BEGIN:VEVENT
DTSTART;TZID=Europe/Paris:20260310T120000
DTEND;TZID=Europe/Paris:20260310T140000
DTSTAMP:20260422T062519
CREATED:20260302T080911Z
LAST-MODIFIED:20260302T080911Z
UID:21867-1773144000-1773151200@h-up.fr
SUMMARY:🚀 Session d'accueil collective
DESCRIPTION:Participez à une session d’accueil conviviale pour découvrir h’up\, ses valeurs et ses accompagnements. \nRencontrez d’autres entrepreneurs\, échangez et posez vos questions. Vous repartirez avec toutes les clés pour bien démarrer avec h’up. \nPour vous inscrire c’est ici : lien d’inscription \n 
URL:https://h-up.fr/event/%f0%9f%9a%80-session-daccueil-collective-3/
LOCATION:visio
CATEGORIES:Session accueil collectif
END:VEVENT
BEGIN:VEVENT
DTSTART;TZID=Europe/Paris:20260311T160000
DTEND;TZID=Europe/Paris:20260311T180000
DTSTAMP:20260422T062519
CREATED:20260302T081131Z
LAST-MODIFIED:20260302T081131Z
UID:21870-1773244800-1773252000@h-up.fr
SUMMARY:💻 Webinaire thématique le Lab - Atelier Pitch
DESCRIPTION:Pratiquer\, pratiquer\, pratiquer… c’est vous qui prenez la parole ! Après un rappel du cadre\, vous préparerez votre discours et le présenterez devant la classe\, pour recueillir des feedbacks constructifs et bienveillants. \nObjectifs : \n\nComprendre la structure d’un discours\nExplorer différents formats de pitch\nDonner et recevoir un feedback constructif\nÊtre à l’aise pour présenter votre activité en toutes circonstances\nSe préparer pour des présentations plus longues\n\n👉 Pour s’inscrire\, il suffit de cliquer sur ce lien : Lien d’inscription
URL:https://h-up.fr/event/%f0%9f%92%bb-webinaire-thematique-le-lab-atelier-pitch/
LOCATION:En ligne
CATEGORIES:Webinaire
END:VEVENT
BEGIN:VEVENT
DTSTART;TZID=Europe/Paris:20260312T150000
DTEND;TZID=Europe/Paris:20260312T180000
DTSTAMP:20260422T062519
CREATED:20260302T081214Z
LAST-MODIFIED:20260302T081214Z
UID:21873-1773327600-1773338400@h-up.fr
SUMMARY:☎️ Permanence juridique - h'up entrepreneurs & Barreau de Paris
DESCRIPTION:h’up entrepreneurs\, grâce à un partenariat avec le Barreau de Paris\, vous propose des permanences juridiques tous les mois. Vous bénéficiez gratuitement d’un échange téléphonique avec un avocat pendant 30 min tous les deuxièmes et derniers jeudis du mois entre 15h et 18h. \nLa problématique doit être transmise à votre référent régional/programme par mail pour vous inscrire et au plus tard le mardi de la semaine de la permanence. \nPour participer à cette permanence\, nous vous invitons à prendre contact avec le référent h’up avec qui vous avez eu l’entretien d’accueil.
URL:https://h-up.fr/event/%e2%98%8e%ef%b8%8f-permanence-juridique-hup-entrepreneurs-barreau-de-paris/
LOCATION:Appel téléphonique
CATEGORIES:Permanence juridique
ORGANIZER;CN="h'up entrepreneurs":MAILTO:contact@h-up.fr
END:VEVENT
BEGIN:VEVENT
DTSTART;TZID=Europe/Paris:20260317T100000
DTEND;TZID=Europe/Paris:20260317T120000
DTSTAMP:20260422T062519
CREATED:20260212T075811Z
LAST-MODIFIED:20260212T075826Z
UID:21735-1773741600-1773748800@h-up.fr
SUMMARY:🚨 Gestion des risques : penser à la fin dès le début ! [Lyon + visio]
DESCRIPTION:Se lancer dans l’entrepreneuriat\, c’est aussi accepter l’incertitude. Cet atelier vous propose d’aborder les choses sans tabou : que se passe-t-il si ça ne marche pas ?\nQuels sont les risques concrets – financiers\, juridiques\, psychologiques – auxquels il faut penser ?\nEt surtout : comment les anticiper\, les limiter et se protéger ? Car penser à la fin\, c’est souvent mieux commencer. \n🎯 Au programme : \n\nIdentifier et comprendre les risques liés à l’entrepreneuriat (financiers\, psycho-sociaux\, émotionnels\, juridiques…)\nSe poser les bonnes questions : quelles conséquences si je m’arrête ? si je me plante ? si je change d’avis ?\nLes outils de protection : quelles assurances\, statuts\, clauses\, responsabilités ?\nConnaître les différentes issues possibles d’un projet entrepreneurial et comment les anticiper\nLes outils pour prévoir (BP\, suivi de la santé de l’entreprise\, impacts personnels) et prendre les décisions au bon moment (redressement\, liquidation\, autre)\nLe cas de l’entrepreneuriat à plusieurs : et si nos visions divergent ?\nRetour d’expérience et bonnes pratiques\n\n⚠️ Événement à destination des TIH\, bénévoles bienvenus. \nPour vous inscrire\, c’est ici : lien d’inscription
URL:https://h-up.fr/event/gestion-des-risques-penser-a-la-fin-des-le-debut-lyon-visio/
LOCATION:2 Avenue Tony Garnier 69007 Lyon\, France
CATEGORIES:Atelier
END:VEVENT
BEGIN:VEVENT
DTSTART;TZID=Europe/Paris:20260318T110000
DTEND;TZID=Europe/Paris:20260318T170000
DTSTAMP:20260422T062519
CREATED:20260302T081303Z
LAST-MODIFIED:20260302T081303Z
UID:21876-1773831600-1773853200@h-up.fr
SUMMARY:☎️ Permanence déblocage commercial
DESCRIPTION:Lila Brahmi\, coach certifiée\, accompagne dirigeants et entrepreneurs\, y compris en fragilité psychique. Elle propose une permanence mensuelle (3 pers.\, 1h30) pour clarifier et débloquer les situations. \nPour participer à cette permanence\, nous vous invitons à prendre contact avec le référent h’up avec qui vous avez eu l’entretien d’accueil.
URL:https://h-up.fr/event/%e2%98%8e%ef%b8%8f-permanence-deblocage-commercial/
LOCATION:Appel téléphonique
CATEGORIES:Permanence déblocage entrepreneurial
ORGANIZER;CN="h'up entrepreneurs":MAILTO:contact@h-up.fr
END:VEVENT
BEGIN:VEVENT
DTSTART;TZID=Europe/Paris:20260318T113000
DTEND;TZID=Europe/Paris:20260318T123000
DTSTAMP:20260422T062519
CREATED:20260302T081534Z
LAST-MODIFIED:20260302T081534Z
UID:21880-1773833400-1773837000@h-up.fr
SUMMARY:☕ Café-visio [Grand-Ouest]
DESCRIPTION:Venez vous connecter à la communauté h’up\, avec un café\, un thé\, depuis chez vous ! Que vous ayez déjà une activité installée ou que vous soyez en train de développer votre entreprise\, venez 🙂\nLes mots d’ordre sont la bienveillance\, l’écoute et l’échange. \nPour vous inscrire c’est ici : lien d’inscription
URL:https://h-up.fr/event/%e2%98%95-cafe-visio-grand-ouest/
LOCATION:Cap Emploi 63\, 19 boulevard Berthelot\, Chamalières\, 63400
CATEGORIES:Session de sensibilisation
END:VEVENT
BEGIN:VEVENT
DTSTART;TZID=Europe/Paris:20260324T093000
DTEND;TZID=Europe/Paris:20260324T123000
DTSTAMP:20260422T062519
CREATED:20260205T103005Z
LAST-MODIFIED:20260205T103329Z
UID:21725-1774344600-1774355400@h-up.fr
SUMMARY:🤝 Session de co-développement [Clermont-Ferrand]
DESCRIPTION:Entreprendre peut parfois rimer avec isolement. Ces sessions de co-développement sont pensées pour créer un espace sécurisé\, bienveillant et stimulant\, dédié aux personnes qui entreprennent avec un handicap ou une fragilité de santé. \n📅 Date : mardis 24 mars\, 28 avril et 26 mai 2026\, de 9h30 à 12h30 \nLe co-développement\, c’est quoi ?\nUne méthode collaborative qui permet de :\n🤝 Partager ses expériences avec d’autres entrepreneurs\n🧠 Analyser collectivement des situations concrètes\n🛠️ Co-construire des solutions adaptées\n💬 Sortir de l’isolement et bénéficier du soutien de pairs \nÀ chaque session\, le groupe choisit ensemble les problématiques à travailler. Les échanges sont ciblés\, concrets et directement utiles à l’avancement des projets. \n⚠️ À noter : \n\nUn engagement sur l’ensemble des 3 sessions est nécessaire\n7 participants maximum par cohorte\n\nPour vous inscrire c’est ici : lien d’inscription \n🤝 Merci à notre partenaire Cap Emploi 63 qui nous accueille dans leurs locaux. Avec le soutien de la Région Auvergne-Rhône-Alpes.
URL:https://h-up.fr/event/session-de-co-developpement-region-aura/
LOCATION:Cap Emploi 63\, 19 boulevard Berthelot\, Chamalières\, 63400
CATEGORIES:Session de sensibilisation
END:VEVENT
BEGIN:VEVENT
DTSTART;TZID=Europe/Paris:20260324T100000
DTEND;TZID=Europe/Paris:20260324T120000
DTSTAMP:20260422T062519
CREATED:20260302T081828Z
LAST-MODIFIED:20260302T081828Z
UID:21884-1774346400-1774353600@h-up.fr
SUMMARY:💻 Webinaire thématique le Lab - Définir sa cible et créer son persona
DESCRIPTION:✨ Tu as un projet… mais tu ne sais pas vraiment à qui tu t’adresses ? Tu as une idée\, une activité\, peut-être même déjà des clients… mais quand on te demande “c’est pour qui exactement ?”\, tu hésites ? Cet atelier est pour toi. \n💻 Tu vas apprendre à : \n\nIdentifier la bonne cible (pas “tout le monde” 😉)\nComprendre le parcours de ton client\nConstruire un persona vivant et concret\nTransformer tout ça en plan d’actions clair (backlog)\n\n👉 Pour s’inscrire\, il suffit de cliquer sur ce lien : Lien d’inscription
URL:https://h-up.fr/event/%f0%9f%92%bb-webinaire-thematique-le-lab-definir-sa-cible-et-creer-son-persona/
LOCATION:En ligne
CATEGORIES:Webinaire
END:VEVENT
BEGIN:VEVENT
DTSTART;TZID=Europe/Paris:20260325T163000
DTEND;TZID=Europe/Paris:20260325T180000
DTSTAMP:20260422T062519
CREATED:20260302T091700Z
LAST-MODIFIED:20260302T091755Z
UID:21894-1774456200-1774461600@h-up.fr
SUMMARY:🚀 Session de sensibilisation à l'entrepreneuriat
DESCRIPTION:Tu te poses des questions sur l’entrepreneuriat et sur ce que cela implique quand on vit avec un handicap ou une fragilité de santé ?\nQue tu sois au stade de l’idée\, du lancement ou déjà immatriculé\, cette session est faite pour t’aider à y voir plus clair. \nAu programme : \n🚀 Les démarches incontournables pour se lancer\n🤔 Déconstruction des idées reçues et préjugés\n💬 Partage d’expériences et réponses à vos premières questions\n🛠️ Panorama des ressources et accompagnements possibles  \nPour vous inscrire c’est ici : lien d’inscription
URL:https://h-up.fr/event/%f0%9f%9a%80-session-de-sensibilisation-a-lentrepreneuriat/
LOCATION:Cap Emploi 63\, 19 boulevard Berthelot\, Chamalières\, 63400
CATEGORIES:Session de sensibilisation
END:VEVENT
BEGIN:VEVENT
DTSTART;TZID=Europe/Paris:20260326T150000
DTEND;TZID=Europe/Paris:20260326T180000
DTSTAMP:20260422T062519
CREATED:20260302T082012Z
LAST-MODIFIED:20260302T082012Z
UID:21888-1774537200-1774548000@h-up.fr
SUMMARY:☎️ Permanence juridique - h'up entrepreneurs & Barreau de Paris
DESCRIPTION:h’up entrepreneurs\, grâce à un partenariat avec le Barreau de Paris\, vous propose des permanences juridiques tous les mois. Vous bénéficiez gratuitement d’un échange téléphonique avec un avocat pendant 30 min tous les deuxièmes et derniers jeudis du mois entre 15h et 18h. \nLa problématique doit être transmise à votre référent régional/programme par mail pour vous inscrire et au plus tard le mardi de la semaine de la permanence. \nPour participer à cette permanence\, nous vous invitons à prendre contact avec le référent h’up avec qui vous avez eu l’entretien d’accueil.
URL:https://h-up.fr/event/%e2%98%8e%ef%b8%8f-permanence-juridique-hup-entrepreneurs-barreau-de-paris-2/
LOCATION:Appel téléphonique
CATEGORIES:Permanence juridique
ORGANIZER;CN="h'up entrepreneurs":MAILTO:contact@h-up.fr
END:VEVENT
BEGIN:VEVENT
DTSTART;TZID=Europe/Paris:20260327T100000
DTEND;TZID=Europe/Paris:20260327T120000
DTSTAMP:20260422T062519
CREATED:20260302T082137Z
LAST-MODIFIED:20260302T082137Z
UID:21891-1774605600-1774612800@h-up.fr
SUMMARY:💡Boost and Work : motivés ensemble !
DESCRIPTION:🚀 Boost and Work – Nouveau format en ligne ! \nEnvie de rester motivé et de concrétiser tes objectifs du mois ? Rejoins Boost and Work\, un rendez-vous collectif en ligne qui mêle coworking\, motivation et énergie de groupe. \nComment ça fonctionne : \n✨ Fixe ton objectif du mois \n✨ Participe à des sessions de travail partagé \n✨ Profite du partner work pour rester motivé en binôme \n✨ Laisse l’énergie du groupe te booster et avancer efficacement \n📅 Plusieurs sessions disponibles dans les mois à venir – tu peux t’inscrire à une ou plusieurs séances ! \n🔗 Lien d’inscription
URL:https://h-up.fr/event/%f0%9f%92%a1boost-and-work-motives-ensemble-2/
LOCATION:visio
CATEGORIES:Boost and work
END:VEVENT
END:VCALENDAR